BEGIN:VCALENDAR
VERSION:2.0
PRODID:-//CCCBSD - ECPv6.15.20//NONSGML v1.0//EN
CALSCALE:GREGORIAN
METHOD:PUBLISH
X-WR-CALNAME:CCCBSD
X-ORIGINAL-URL:https://cccbsd.org
X-WR-CALDESC:Events for CCCBSD
REFRESH-INTERVAL;VALUE=DURATION:PT1H
X-Robots-Tag:noindex
X-PUBLISHED-TTL:PT1H
BEGIN:VTIMEZONE
TZID:America/New_York
BEGIN:DAYLIGHT
TZOFFSETFROM:-0500
TZOFFSETTO:-0400
TZNAME:EDT
DTSTART:20240310T070000
END:DAYLIGHT
BEGIN:STANDARD
TZOFFSETFROM:-0400
TZOFFSETTO:-0500
TZNAME:EST
DTSTART:20241103T060000
END:STANDARD
BEGIN:DAYLIGHT
TZOFFSETFROM:-0500
TZOFFSETTO:-0400
TZNAME:EDT
DTSTART:20250309T070000
END:DAYLIGHT
BEGIN:STANDARD
TZOFFSETFROM:-0400
TZOFFSETTO:-0500
TZNAME:EST
DTSTART:20251102T060000
END:STANDARD
BEGIN:DAYLIGHT
TZOFFSETFROM:-0500
TZOFFSETTO:-0400
TZNAME:EDT
DTSTART:20260308T070000
END:DAYLIGHT
BEGIN:STANDARD
TZOFFSETFROM:-0400
TZOFFSETTO:-0500
TZNAME:EST
DTSTART:20261101T060000
END:STANDARD
BEGIN:DAYLIGHT
TZOFFSETFROM:-0500
TZOFFSETTO:-0400
TZNAME:EDT
DTSTART:20270314T070000
END:DAYLIGHT
BEGIN:STANDARD
TZOFFSETFROM:-0400
TZOFFSETTO:-0500
TZNAME:EST
DTSTART:20271107T060000
END:STANDARD
END:VTIMEZONE
BEGIN:VEVENT
DTSTART;VALUE=DATE:20260419
DTEND;VALUE=DATE:20260420
DTSTAMP:20260421T112109
CREATED:20260106T160028Z
LAST-MODIFIED:20260217T204334Z
UID:10000257-1776556800-1776643199@cccbsd.org
SUMMARY:National Autism Awareness Month - Silent Touch a Truck
DESCRIPTION:Silent Touch a Truck\nEndicott College\nApril 19th @ 10:00am
URL:https://cccbsd.org/event/silent-touch-a-truck/
CATEGORIES:150 Events
ATTACH;FMTTYPE=image/jpeg:https://cccbsd.org/wp-content/uploads/2026/01/628215750_1514106237389319_784993296995162942_n.jpg
END:VEVENT
BEGIN:VEVENT
DTSTART;VALUE=DATE:20260414
DTEND;VALUE=DATE:20260415
DTSTAMP:20260421T112109
CREATED:20260106T160028Z
LAST-MODIFIED:20260324T161421Z
UID:10000258-1776124800-1776211199@cccbsd.org
SUMMARY:CODA Showing - Cabot Theater
DESCRIPTION:Come enjoy a viewing of the Academy Award Winning Move – CODA – filmed on the Northshore in Beverly and Gloucester.  This movie tells the story of a Deaf family with a hearing daughter where the daughter feels torn between her family and her musical pasion when her family’s fishing business is threatened.\nhttps://thecabot.org/event/coda-pre-film-reception/\nFree Movie\nVIP reception before the movie – Free  –  5:30 – 6:45\nCCCBSD Art Show
URL:https://cccbsd.org/event/coda-showing/
CATEGORIES:150 Events
ATTACH;FMTTYPE=image/png:https://cccbsd.org/wp-content/uploads/2026/01/Screenshot-2026-03-24-121224.png
END:VEVENT
BEGIN:VEVENT
DTSTART;VALUE=DATE:20260411
DTEND;VALUE=DATE:20260412
DTSTAMP:20260421T112109
CREATED:20260106T160028Z
LAST-MODIFIED:20260401T180527Z
UID:10000259-1775865600-1775951999@cccbsd.org
SUMMARY:Annual Spring Soiree
DESCRIPTION:PURCHASE TICKETS  \n\n  \nCCCBSD Annual Soiree and Auction\nPeter L. Bailey is the 31st Superintendent of the Texas School for the Deaf. He previously served as the 17th Head of School (Superintendent) at the Pennsylvania School for the Deaf from 2016 to 2023 and has nearly 30 years of experience in various leadership roles at multiple Deaf schools across the country. Peter has also served on the boards of Conference of Educational Administrators of Schools and Programs for the Deaf (CEASD) and American Society for Deaf Children (ASDC).\n\n\n  \n  \n  \n 
URL:https://cccbsd.org/event/annual-soiree-auction/
CATEGORIES:150 Events
ATTACH;FMTTYPE=image/jpeg:https://cccbsd.org/wp-content/uploads/2026/01/CCC_2026-Invite2.jpg
END:VEVENT
BEGIN:VEVENT
DTSTART;TZID=America/New_York:20260321T170000
DTEND;TZID=America/New_York:20260321T200000
DTSTAMP:20260421T112109
CREATED:20260106T160028Z
LAST-MODIFIED:20260226T192932Z
UID:10000253-1774112400-1774123200@cccbsd.org
SUMMARY:Sculpture Night at CCCBSD
DESCRIPTION:
URL:https://cccbsd.org/event/asl-game-night-at-cccbsd/
LOCATION:CCCBSD\, 6 Echo Avenue\, Beverly\, MA\, 01915\, United States
CATEGORIES:150 Events
ATTACH;FMTTYPE=image/png:https://cccbsd.org/wp-content/uploads/2026/01/image-38.png
END:VEVENT
BEGIN:VEVENT
DTSTART;TZID=America/New_York:20260307T183000
DTEND;TZID=America/New_York:20260307T213000
DTSTAMP:20260421T112109
CREATED:20260106T160028Z
LAST-MODIFIED:20260113T155440Z
UID:10000255-1772908200-1772919000@cccbsd.org
SUMMARY:Beverly Trivia In The Round
DESCRIPTION:ASL Interpreted Event! \nBeverly Trivia In The Round\nBeverly 400th trivia night with CCCBSD trivia\nBring a team and join the fun!\nSaturday March 7\, 2026 at 6:30pm
URL:https://cccbsd.org/event/beverly-trivia-in-the-round/
LOCATION:North Shore Music Theater\, 54 Dunham Road\, Beverly\, MA\, 01915\, United States
CATEGORIES:150 Events
ATTACH;FMTTYPE=image/png:https://cccbsd.org/wp-content/uploads/2025/12/Trivia.png
END:VEVENT
BEGIN:VEVENT
DTSTART;TZID=America/New_York:20260212T183000
DTEND;TZID=America/New_York:20260212T193000
DTSTAMP:20260421T112109
CREATED:20260106T160028Z
LAST-MODIFIED:20260206T183706Z
UID:10000251-1770921000-1770924600@cccbsd.org
SUMMARY:DEAFinitely Dance Show
DESCRIPTION:Website
URL:https://cccbsd.org/event/deafinitely-dance-show/
CATEGORIES:150 Events
ATTACH;FMTTYPE=image/png:https://cccbsd.org/wp-content/uploads/2026/01/DEAFinitely-Dance-.png
END:VEVENT
BEGIN:VEVENT
DTSTART;TZID=America/New_York:20260207T170000
DTEND;TZID=America/New_York:20260207T200000
DTSTAMP:20260421T112109
CREATED:20260106T160028Z
LAST-MODIFIED:20260206T224005Z
UID:10000252-1770483600-1770494400@cccbsd.org
SUMMARY:Sculpture ASL - Community ASL Night (CANCELLED)
DESCRIPTION:Due to expected weather conditions\, this event has been cancelled. \n 
URL:https://cccbsd.org/event/sculptureasl-community-asl-night/
CATEGORIES:150 Events
ATTACH;FMTTYPE=image/jpeg:https://cccbsd.org/wp-content/uploads/2026/01/Sculpture-event-scaled.jpg
END:VEVENT
BEGIN:VEVENT
DTSTART;TZID=America/New_York:20260207T100000
DTEND;TZID=America/New_York:20260207T120000
DTSTAMP:20260421T112109
CREATED:20260106T160028Z
LAST-MODIFIED:20260115T170032Z
UID:10000287-1770458400-1770465600@cccbsd.org
SUMMARY:Adaptive Sports
DESCRIPTION:  \n\n 
URL:https://cccbsd.org/event/adaptive-sports/2026-02-07/
CATEGORIES:150 Events
ATTACH;FMTTYPE=image/png:https://cccbsd.org/wp-content/uploads/2026/01/CCCBSD-Community-Sports-Program-2-1.png
END:VEVENT
BEGIN:VEVENT
DTSTART;TZID=America/New_York:20260131T100000
DTEND;TZID=America/New_York:20260131T120000
DTSTAMP:20260421T112109
CREATED:20260106T160028Z
LAST-MODIFIED:20260115T170032Z
UID:10000286-1769853600-1769860800@cccbsd.org
SUMMARY:Adaptive Sports
DESCRIPTION:  \n\n 
URL:https://cccbsd.org/event/adaptive-sports/2026-01-31/
CATEGORIES:150 Events
ATTACH;FMTTYPE=image/png:https://cccbsd.org/wp-content/uploads/2026/01/CCCBSD-Community-Sports-Program-2-1.png
END:VEVENT
BEGIN:VEVENT
DTSTART;TZID=America/New_York:20260124T100000
DTEND;TZID=America/New_York:20260124T120000
DTSTAMP:20260421T112109
CREATED:20260106T160028Z
LAST-MODIFIED:20260115T170032Z
UID:10000285-1769248800-1769256000@cccbsd.org
SUMMARY:Adaptive Sports
DESCRIPTION:  \n\n 
URL:https://cccbsd.org/event/adaptive-sports/2026-01-24/
CATEGORIES:150 Events
ATTACH;FMTTYPE=image/png:https://cccbsd.org/wp-content/uploads/2026/01/CCCBSD-Community-Sports-Program-2-1.png
END:VEVENT
BEGIN:VEVENT
DTSTART;TZID=America/New_York:20260122T160000
DTEND;TZID=America/New_York:20260122T220000
DTSTAMP:20260421T112109
CREATED:20260106T160028Z
LAST-MODIFIED:20260114T162611Z
UID:10000250-1769097600-1769119200@cccbsd.org
SUMMARY:Fundraiser at Mission Boathouse
DESCRIPTION:150th Kick Off Month\nFundraiser at Mission Boathouse\n20% of the proceeds go to CCCBSD (Must bring flyer)
URL:https://cccbsd.org/event/fundraiser-at-mission-boathouse/
CATEGORIES:150 Events
ATTACH;FMTTYPE=image/png:https://cccbsd.org/wp-content/uploads/2025/12/MissonBoathouse.png
END:VEVENT
BEGIN:VEVENT
DTSTART;VALUE=DATE:20251224
DTEND;VALUE=DATE:20260103
DTSTAMP:20260421T112109
CREATED:20250616T194323Z
LAST-MODIFIED:20250616T194323Z
UID:10000247-1766534400-1767398399@cccbsd.org
SUMMARY:Winter Break
DESCRIPTION:
URL:https://cccbsd.org/event/winter-break-4/
END:VEVENT
BEGIN:VEVENT
DTSTART;VALUE=DATE:20251223
DTEND;VALUE=DATE:20251224
DTSTAMP:20260421T112109
CREATED:20250616T194216Z
LAST-MODIFIED:20250616T194216Z
UID:10000246-1766448000-1766534399@cccbsd.org
SUMMARY:Early Release - 11:40am
DESCRIPTION:
URL:https://cccbsd.org/event/early-release-1140am-2/
END:VEVENT
BEGIN:VEVENT
DTSTART;VALUE=DATE:20251203
DTEND;VALUE=DATE:20251204
DTSTAMP:20260421T112109
CREATED:20250616T194131Z
LAST-MODIFIED:20250616T194131Z
UID:10000245-1764720000-1764806399@cccbsd.org
SUMMARY:Early Release (Students) - 11:40am
DESCRIPTION:
URL:https://cccbsd.org/event/early-release-students-1140am-6/
END:VEVENT
BEGIN:VEVENT
DTSTART;VALUE=DATE:20251127
DTEND;VALUE=DATE:20251129
DTSTAMP:20260421T112109
CREATED:20250616T193729Z
LAST-MODIFIED:20250616T193729Z
UID:10000243-1764201600-1764374399@cccbsd.org
SUMMARY:Thanksgiving Break
DESCRIPTION:
URL:https://cccbsd.org/event/thanksgiving-break-4/
END:VEVENT
BEGIN:VEVENT
DTSTART;TZID=America/New_York:20251126T100000
DTEND;TZID=America/New_York:20251126T110000
DTSTAMP:20260421T112109
CREATED:20251113T175201Z
LAST-MODIFIED:20251113T175353Z
UID:10000249-1764151200-1764154800@cccbsd.org
SUMMARY:Turkey Trot
DESCRIPTION:The students will get to trot\, walk\, or roll their way through a race route and cross the finish line during our annual Turkey Trot!   
URL:https://cccbsd.org/event/turkey-trot/
END:VEVENT
BEGIN:VEVENT
DTSTART;VALUE=DATE:20251126
DTEND;VALUE=DATE:20251127
DTSTAMP:20260421T112109
CREATED:20250616T193905Z
LAST-MODIFIED:20250616T194049Z
UID:10000244-1764115200-1764201599@cccbsd.org
SUMMARY:Early Release - 11:40am
DESCRIPTION:
URL:https://cccbsd.org/event/early-release-1140am/
END:VEVENT
BEGIN:VEVENT
DTSTART;VALUE=DATE:20251121
DTEND;VALUE=DATE:20251122
DTSTAMP:20260421T112109
CREATED:20250616T193657Z
LAST-MODIFIED:20251113T173539Z
UID:10000242-1763683200-1763769599@cccbsd.org
SUMMARY:CCCBSD Day of Gratitude
DESCRIPTION:Book Fair and Market Day
URL:https://cccbsd.org/event/cccbsd-thanksgiving-dinner/
END:VEVENT
BEGIN:VEVENT
DTSTART;VALUE=DATE:20251114
DTEND;VALUE=DATE:20251115
DTSTAMP:20260421T112109
CREATED:20251113T173738Z
LAST-MODIFIED:20251113T174142Z
UID:10000248-1763078400-1763164799@cccbsd.org
SUMMARY:World Diabetes Day - wear blue
DESCRIPTION:
URL:https://cccbsd.org/event/world-diabetes-day-wear-blue/
END:VEVENT
BEGIN:VEVENT
DTSTART;VALUE=DATE:20251111
DTEND;VALUE=DATE:20251112
DTSTAMP:20260421T112109
CREATED:20250616T193545Z
LAST-MODIFIED:20250616T193545Z
UID:10000241-1762819200-1762905599@cccbsd.org
SUMMARY:Veterans Day - No School
DESCRIPTION:
URL:https://cccbsd.org/event/veterans-day-no-school-3/
END:VEVENT
BEGIN:VEVENT
DTSTART;VALUE=DATE:20251105
DTEND;VALUE=DATE:20251106
DTSTAMP:20260421T112109
CREATED:20250616T193507Z
LAST-MODIFIED:20250616T193507Z
UID:10000240-1762300800-1762387199@cccbsd.org
SUMMARY:Early Release (Students) - 11:40am
DESCRIPTION:
URL:https://cccbsd.org/event/early-release-students-1140am-5/
END:VEVENT
BEGIN:VEVENT
DTSTART;VALUE=DATE:20251013
DTEND;VALUE=DATE:20251014
DTSTAMP:20260421T112109
CREATED:20250616T193403Z
LAST-MODIFIED:20250616T193435Z
UID:10000239-1760313600-1760399999@cccbsd.org
SUMMARY:Indigenous People's Day - No School
DESCRIPTION:
URL:https://cccbsd.org/event/indigenous-peoples-day-no-school-2/
END:VEVENT
BEGIN:VEVENT
DTSTART;VALUE=DATE:20251001
DTEND;VALUE=DATE:20251002
DTSTAMP:20260421T112109
CREATED:20250616T193311Z
LAST-MODIFIED:20250616T193328Z
UID:10000238-1759276800-1759363199@cccbsd.org
SUMMARY:Early Release (Students) -11:40am
DESCRIPTION:
URL:https://cccbsd.org/event/early-release-students-1140am-4/
END:VEVENT
BEGIN:VEVENT
DTSTART;TZID=America/New_York:20250911T170000
DTEND;TZID=America/New_York:20250911T180000
DTSTAMP:20260421T112109
CREATED:20250616T192858Z
LAST-MODIFIED:20250616T192858Z
UID:10000236-1757610000-1757613600@cccbsd.org
SUMMARY:Parent Open House
DESCRIPTION:
URL:https://cccbsd.org/event/parent-open-house-2/
END:VEVENT
BEGIN:VEVENT
DTSTART;VALUE=DATE:20250903
DTEND;VALUE=DATE:20250904
DTSTAMP:20260421T112109
CREATED:20250616T192817Z
LAST-MODIFIED:20250616T192817Z
UID:10000235-1756857600-1756943999@cccbsd.org
SUMMARY:First Day w/ early dismissal (11:40am)
DESCRIPTION:
URL:https://cccbsd.org/event/first-day-w-early-dismissal-1140am/
END:VEVENT
BEGIN:VEVENT
DTSTART;VALUE=DATE:20250902
DTEND;VALUE=DATE:20250903
DTSTAMP:20260421T112109
CREATED:20250616T193224Z
LAST-MODIFIED:20250616T193224Z
UID:10000237-1756771200-1756857599@cccbsd.org
SUMMARY:Staff Orientation
DESCRIPTION:
URL:https://cccbsd.org/event/staff-orientation-3/
END:VEVENT
BEGIN:VEVENT
DTSTART;VALUE=DATE:20250815
DTEND;VALUE=DATE:20250902
DTSTAMP:20260421T112109
CREATED:20250616T192653Z
LAST-MODIFIED:20250616T192653Z
UID:10000233-1755216000-1756771199@cccbsd.org
SUMMARY:Summer Break
DESCRIPTION:
URL:https://cccbsd.org/event/summer-break-6/
END:VEVENT
BEGIN:VEVENT
DTSTART;VALUE=DATE:20250814
DTEND;VALUE=DATE:20250815
DTSTAMP:20260421T112109
CREATED:20250616T192338Z
LAST-MODIFIED:20250616T192338Z
UID:10000227-1755129600-1755215999@cccbsd.org
SUMMARY:Last Day of Summer Session (Full Day)
DESCRIPTION:
URL:https://cccbsd.org/event/last-day-of-summer-session-full-day/
END:VEVENT
BEGIN:VEVENT
DTSTART;VALUE=DATE:20250808
DTEND;VALUE=DATE:20250809
DTSTAMP:20260421T112109
CREATED:20250616T192548Z
LAST-MODIFIED:20250616T192548Z
UID:10000232-1754611200-1754697599@cccbsd.org
SUMMARY:No School
DESCRIPTION:
URL:https://cccbsd.org/event/no-school-19/
END:VEVENT
BEGIN:VEVENT
DTSTART;VALUE=DATE:20250806
DTEND;VALUE=DATE:20250807
DTSTAMP:20260421T112109
CREATED:20250616T192300Z
LAST-MODIFIED:20250616T192300Z
UID:10000226-1754438400-1754524799@cccbsd.org
SUMMARY:Early Release (Students) - 11:40am
DESCRIPTION:
URL:https://cccbsd.org/event/early-release-students-1140am-3/
END:VEVENT
END:VCALENDAR