BEGIN:VCALENDAR
VERSION:2.0
PRODID:-//CCCBSD - ECPv6.15.20//NONSGML v1.0//EN
CALSCALE:GREGORIAN
METHOD:PUBLISH
X-WR-CALNAME:CCCBSD
X-ORIGINAL-URL:https://cccbsd.org
X-WR-CALDESC:Events for CCCBSD
REFRESH-INTERVAL;VALUE=DURATION:PT1H
X-Robots-Tag:noindex
X-PUBLISHED-TTL:PT1H
BEGIN:VTIMEZONE
TZID:America/New_York
BEGIN:DAYLIGHT
TZOFFSETFROM:-0500
TZOFFSETTO:-0400
TZNAME:EDT
DTSTART:20190310T070000
END:DAYLIGHT
BEGIN:STANDARD
TZOFFSETFROM:-0400
TZOFFSETTO:-0500
TZNAME:EST
DTSTART:20191103T060000
END:STANDARD
BEGIN:DAYLIGHT
TZOFFSETFROM:-0500
TZOFFSETTO:-0400
TZNAME:EDT
DTSTART:20200308T070000
END:DAYLIGHT
BEGIN:STANDARD
TZOFFSETFROM:-0400
TZOFFSETTO:-0500
TZNAME:EST
DTSTART:20201101T060000
END:STANDARD
BEGIN:DAYLIGHT
TZOFFSETFROM:-0500
TZOFFSETTO:-0400
TZNAME:EDT
DTSTART:20210314T070000
END:DAYLIGHT
BEGIN:STANDARD
TZOFFSETFROM:-0400
TZOFFSETTO:-0500
TZNAME:EST
DTSTART:20211107T060000
END:STANDARD
BEGIN:DAYLIGHT
TZOFFSETFROM:-0500
TZOFFSETTO:-0400
TZNAME:EDT
DTSTART:20220313T070000
END:DAYLIGHT
BEGIN:STANDARD
TZOFFSETFROM:-0400
TZOFFSETTO:-0500
TZNAME:EST
DTSTART:20221106T060000
END:STANDARD
BEGIN:DAYLIGHT
TZOFFSETFROM:-0500
TZOFFSETTO:-0400
TZNAME:EDT
DTSTART:20230312T070000
END:DAYLIGHT
BEGIN:STANDARD
TZOFFSETFROM:-0400
TZOFFSETTO:-0500
TZNAME:EST
DTSTART:20231105T060000
END:STANDARD
END:VTIMEZONE
BEGIN:VEVENT
DTSTART;VALUE=DATE:20220204
DTEND;VALUE=DATE:20220205
DTSTAMP:20260423T171929
CREATED:20220201T202835Z
LAST-MODIFIED:20220201T202835Z
UID:10000029-1643932800-1644019199@cccbsd.org
SUMMARY:Fun Friday - Denim Day
DESCRIPTION:
URL:https://cccbsd.org/event/fun-friday-denim-day/
END:VEVENT
BEGIN:VEVENT
DTSTART;VALUE=DATE:20211224
DTEND;VALUE=DATE:20220101
DTSTAMP:20260423T171929
CREATED:20211013T164639Z
LAST-MODIFIED:20211013T164639Z
UID:10000109-1640304000-1640995199@cccbsd.org
SUMMARY:Winter Break
DESCRIPTION:
URL:https://cccbsd.org/event/winter-break-2/
END:VEVENT
BEGIN:VEVENT
DTSTART;TZID=America/New_York:20211223T123000
DTEND;TZID=America/New_York:20211223T123000
DTSTAMP:20260423T171929
CREATED:20211013T164606Z
LAST-MODIFIED:20211013T164958Z
UID:10000108-1640262600-1640262600@cccbsd.org
SUMMARY:Early Release
DESCRIPTION:
URL:https://cccbsd.org/event/early-release-2/
END:VEVENT
BEGIN:VEVENT
DTSTART;VALUE=DATE:20211125
DTEND;VALUE=DATE:20211127
DTSTAMP:20260423T171929
CREATED:20211013T164523Z
LAST-MODIFIED:20240529T190435Z
UID:10000107-1637798400-1637971199@cccbsd.org
SUMMARY:Thanksgiving Break November 25 - 26\, 2021
DESCRIPTION:
URL:https://cccbsd.org/event/thanksgiving-break-2/
END:VEVENT
BEGIN:VEVENT
DTSTART;TZID=America/New_York:20211124T123000
DTEND;TZID=America/New_York:20211124T123000
DTSTAMP:20260423T171929
CREATED:20211013T164451Z
LAST-MODIFIED:20211013T164451Z
UID:10000106-1637757000-1637757000@cccbsd.org
SUMMARY:Early Release
DESCRIPTION:
URL:https://cccbsd.org/event/early-release/
END:VEVENT
BEGIN:VEVENT
DTSTART;VALUE=DATE:20211111
DTEND;VALUE=DATE:20211112
DTSTAMP:20260423T171929
CREATED:20211013T164240Z
LAST-MODIFIED:20211013T164240Z
UID:10000105-1636588800-1636675199@cccbsd.org
SUMMARY:Veterans Day - No School
DESCRIPTION:
URL:https://cccbsd.org/event/veterans-day-no-school/
END:VEVENT
BEGIN:VEVENT
DTSTART;VALUE=DATE:20211103
DTEND;VALUE=DATE:20211104
DTSTAMP:20260423T171929
CREATED:20210318T140948Z
LAST-MODIFIED:20240529T185343Z
UID:10000013-1635897600-1635983999@cccbsd.org
SUMMARY:Picture Retake Day November 3 2021
DESCRIPTION:
URL:https://cccbsd.org/event/picture-retake-day/
END:VEVENT
BEGIN:VEVENT
DTSTART;TZID=America/New_York:20211016T100000
DTEND;TZID=America/New_York:20211016T120000
DTSTAMP:20260423T171929
CREATED:20211013T163954Z
LAST-MODIFIED:20211013T163954Z
UID:10000104-1634378400-1634385600@cccbsd.org
SUMMARY:Last Miracle League Game
DESCRIPTION:10:30am
URL:https://cccbsd.org/event/last-miracle-league-game/
END:VEVENT
BEGIN:VEVENT
DTSTART;VALUE=DATE:20211011
DTEND;VALUE=DATE:20211012
DTSTAMP:20260423T171929
CREATED:20211013T163843Z
LAST-MODIFIED:20211013T163843Z
UID:10000103-1633910400-1633996799@cccbsd.org
SUMMARY:No School
DESCRIPTION:
URL:https://cccbsd.org/event/no-school/
END:VEVENT
BEGIN:VEVENT
DTSTART;VALUE=DATE:20210909
DTEND;VALUE=DATE:20210910
DTSTAMP:20260423T171929
CREATED:20210318T140914Z
LAST-MODIFIED:20240529T191507Z
UID:10000012-1631145600-1631231999@cccbsd.org
SUMMARY:School Picture Day September 9\, 2021
DESCRIPTION:
URL:https://cccbsd.org/event/school-picture-day-2/
END:VEVENT
BEGIN:VEVENT
DTSTART;VALUE=DATE:20210906
DTEND;VALUE=DATE:20210908
DTSTAMP:20260423T171929
CREATED:20210824T183851Z
LAST-MODIFIED:20210824T183908Z
UID:10000102-1630886400-1631059199@cccbsd.org
SUMMARY:Labor Day / Rosh Hashanah - No School
DESCRIPTION:
URL:https://cccbsd.org/event/labor-day-rosh-hashanah-no-school/
END:VEVENT
BEGIN:VEVENT
DTSTART;VALUE=DATE:20210831
DTEND;VALUE=DATE:20210901
DTSTAMP:20260423T171929
CREATED:20210318T141534Z
LAST-MODIFIED:20210318T141534Z
UID:10000018-1630368000-1630454399@cccbsd.org
SUMMARY:Students Return to school
DESCRIPTION:
URL:https://cccbsd.org/event/students-return-to-school/
END:VEVENT
BEGIN:VEVENT
DTSTART;VALUE=DATE:20210813
DTEND;VALUE=DATE:20210831
DTSTAMP:20260423T171929
CREATED:20210318T141426Z
LAST-MODIFIED:20240529T185837Z
UID:10000017-1628812800-1630367999@cccbsd.org
SUMMARY:Summer Break August 13 - August 20th\, 2021
DESCRIPTION:
URL:https://cccbsd.org/event/summer-break-2/
END:VEVENT
BEGIN:VEVENT
DTSTART;VALUE=DATE:20210812
DTEND;VALUE=DATE:20210813
DTSTAMP:20260423T171929
CREATED:20210318T141325Z
LAST-MODIFIED:20210318T141325Z
UID:10000016-1628726400-1628812799@cccbsd.org
SUMMARY:Last Day of Summer Session
DESCRIPTION:
URL:https://cccbsd.org/event/last-day-of-summer-session/
END:VEVENT
BEGIN:VEVENT
DTSTART;TZID=America/New_York:20210707T080000
DTEND;TZID=America/New_York:20210707T170000
DTSTAMP:20260423T171929
CREATED:20210318T141229Z
LAST-MODIFIED:20210318T141229Z
UID:10000015-1625644800-1625677200@cccbsd.org
SUMMARY:First Day of School - Summer Session
DESCRIPTION:
URL:https://cccbsd.org/event/first-day-of-school-summer-session/
END:VEVENT
BEGIN:VEVENT
DTSTART;VALUE=DATE:20210704
DTEND;VALUE=DATE:20210705
DTSTAMP:20260423T171929
CREATED:20210318T141140Z
LAST-MODIFIED:20210318T141140Z
UID:10000014-1625356800-1625443199@cccbsd.org
SUMMARY:Independence Day
DESCRIPTION:
URL:https://cccbsd.org/event/independence-day/
END:VEVENT
BEGIN:VEVENT
DTSTART;VALUE=DATE:20210618
DTEND;VALUE=DATE:20210619
DTSTAMP:20260423T171929
CREATED:20210316T195210Z
LAST-MODIFIED:20210316T195210Z
UID:10000011-1623974400-1624060799@cccbsd.org
SUMMARY:Last Day of School
DESCRIPTION:
URL:https://cccbsd.org/event/last-day-of-school-2/
END:VEVENT
BEGIN:VEVENT
DTSTART;TZID=America/New_York:20210612T050000
DTEND;TZID=America/New_York:20210612T220000
DTSTAMP:20260423T171929
CREATED:20210316T193904Z
LAST-MODIFIED:20210316T193929Z
UID:10000096-1623474000-1623535200@cccbsd.org
SUMMARY:23rd Annual Spring Soiree
DESCRIPTION:
URL:https://cccbsd.org/event/23rd-annual-spring-soiree/
LOCATION:CCCBSD\, 6 Echo Avenue\, Beverly\, MA\, 01915\, United States
END:VEVENT
BEGIN:VEVENT
DTSTART;VALUE=DATE:20210531
DTEND;VALUE=DATE:20210601
DTSTAMP:20260423T171929
CREATED:20210316T195053Z
LAST-MODIFIED:20210316T195053Z
UID:10000099-1622419200-1622505599@cccbsd.org
SUMMARY:Memorial Day - No School
DESCRIPTION:
URL:https://cccbsd.org/event/memorial-day-no-school-2/
END:VEVENT
BEGIN:VEVENT
DTSTART;TZID=America/New_York:20210522T100000
DTEND;TZID=America/New_York:20210522T120000
DTSTAMP:20260423T171929
CREATED:20210510T155300Z
LAST-MODIFIED:20210510T155300Z
UID:10000101-1621677600-1621684800@cccbsd.org
SUMMARY:Miracle League - Game 3
DESCRIPTION:
URL:https://cccbsd.org/event/miracle-league-game-3/
END:VEVENT
BEGIN:VEVENT
DTSTART;TZID=America/New_York:20210515T100000
DTEND;TZID=America/New_York:20210515T120000
DTSTAMP:20260423T171929
CREATED:20210510T155226Z
LAST-MODIFIED:20210510T155226Z
UID:10000020-1621072800-1621080000@cccbsd.org
SUMMARY:Miracle League - Game 2
DESCRIPTION:
URL:https://cccbsd.org/event/miracle-league-game-2/
END:VEVENT
BEGIN:VEVENT
DTSTART;TZID=America/New_York:20210508T100000
DTEND;TZID=America/New_York:20210508T120000
DTSTAMP:20260423T171929
CREATED:20210510T155148Z
LAST-MODIFIED:20210510T155148Z
UID:10000019-1620468000-1620475200@cccbsd.org
SUMMARY:Miracle League Game 1
DESCRIPTION:
URL:https://cccbsd.org/event/miracle-league-game-1/
END:VEVENT
BEGIN:VEVENT
DTSTART;VALUE=DATE:20210419
DTEND;VALUE=DATE:20210424
DTSTAMP:20260423T171929
CREATED:20210316T195018Z
LAST-MODIFIED:20210316T195018Z
UID:10000095-1618790400-1619222399@cccbsd.org
SUMMARY:April School Vacation
DESCRIPTION:
URL:https://cccbsd.org/event/april-school-vacation/
END:VEVENT
BEGIN:VEVENT
DTSTART;VALUE=DATE:20210402
DTEND;VALUE=DATE:20210403
DTSTAMP:20260423T171929
CREATED:20210316T194932Z
LAST-MODIFIED:20210316T194932Z
UID:10000097-1617321600-1617407999@cccbsd.org
SUMMARY:Good Friday - No School
DESCRIPTION:
URL:https://cccbsd.org/event/good-friday-no-school-2/
END:VEVENT
BEGIN:VEVENT
DTSTART;VALUE=DATE:20210320
DTEND;VALUE=DATE:20210321
DTSTAMP:20260423T171929
CREATED:20210316T194732Z
LAST-MODIFIED:20210316T194732Z
UID:10000098-1616198400-1616284799@cccbsd.org
SUMMARY:FIRST DAY OF SPRING!
DESCRIPTION:
URL:https://cccbsd.org/event/first-day-of-spring/
END:VEVENT
BEGIN:VEVENT
DTSTART;TZID=America/New_York:20210319T124000
DTEND;TZID=America/New_York:20210319T170000
DTSTAMP:20260423T171929
CREATED:20210316T194842Z
LAST-MODIFIED:20210316T194842Z
UID:10000100-1616157600-1616173200@cccbsd.org
SUMMARY:Professional Development Day - Half Day for Students
DESCRIPTION:
URL:https://cccbsd.org/event/professional-development-day-half-day-for-students/
END:VEVENT
BEGIN:VEVENT
DTSTART;TZID=America/New_York:20210317T080000
DTEND;TZID=America/New_York:20210317T170000
DTSTAMP:20260423T171929
CREATED:20210316T193644Z
LAST-MODIFIED:20210316T193644Z
UID:10000094-1615968000-1616000400@cccbsd.org
SUMMARY:St. Patrick's Day
DESCRIPTION:
URL:https://cccbsd.org/event/st-patricks-day/
END:VEVENT
BEGIN:VEVENT
DTSTART;VALUE=DATE:20201104
DTEND;VALUE=DATE:20201105
DTSTAMP:20260423T171929
CREATED:20201013T180534Z
LAST-MODIFIED:20201013T180534Z
UID:10000093-1604448000-1604534399@cccbsd.org
SUMMARY:School Picture Day
DESCRIPTION:
URL:https://cccbsd.org/event/school-picture-day/
END:VEVENT
BEGIN:VEVENT
DTSTART;VALUE=DATE:20201021
DTEND;VALUE=DATE:20201022
DTSTAMP:20260423T171929
CREATED:20201006T195255Z
LAST-MODIFIED:20201006T195255Z
UID:10000092-1603238400-1603324799@cccbsd.org
SUMMARY:Rett Syndrome Awareness
DESCRIPTION:Wear purple to raise awareness for Rett Syndrome.
URL:https://cccbsd.org/event/rett-syndrome-awareness/
END:VEVENT
BEGIN:VEVENT
DTSTART;VALUE=DATE:20201012
DTEND;VALUE=DATE:20201013
DTSTAMP:20260423T171929
CREATED:20201006T195207Z
LAST-MODIFIED:20201006T195207Z
UID:10000091-1602460800-1602547199@cccbsd.org
SUMMARY:No School - Columbus Day
DESCRIPTION:
URL:https://cccbsd.org/event/no-school-columbus-day/
END:VEVENT
END:VCALENDAR