BEGIN:VCALENDAR
VERSION:2.0
PRODID:-//CCCBSD - ECPv6.15.20//NONSGML v1.0//EN
CALSCALE:GREGORIAN
METHOD:PUBLISH
X-WR-CALNAME:CCCBSD
X-ORIGINAL-URL:https://cccbsd.org
X-WR-CALDESC:Events for CCCBSD
REFRESH-INTERVAL;VALUE=DURATION:PT1H
X-Robots-Tag:noindex
X-PUBLISHED-TTL:PT1H
BEGIN:VTIMEZONE
TZID:America/New_York
BEGIN:DAYLIGHT
TZOFFSETFROM:-0500
TZOFFSETTO:-0400
TZNAME:EDT
DTSTART:20220313T070000
END:DAYLIGHT
BEGIN:STANDARD
TZOFFSETFROM:-0400
TZOFFSETTO:-0500
TZNAME:EST
DTSTART:20221106T060000
END:STANDARD
BEGIN:DAYLIGHT
TZOFFSETFROM:-0500
TZOFFSETTO:-0400
TZNAME:EDT
DTSTART:20230312T070000
END:DAYLIGHT
BEGIN:STANDARD
TZOFFSETFROM:-0400
TZOFFSETTO:-0500
TZNAME:EST
DTSTART:20231105T060000
END:STANDARD
BEGIN:DAYLIGHT
TZOFFSETFROM:-0500
TZOFFSETTO:-0400
TZNAME:EDT
DTSTART:20240310T070000
END:DAYLIGHT
BEGIN:STANDARD
TZOFFSETFROM:-0400
TZOFFSETTO:-0500
TZNAME:EST
DTSTART:20241103T060000
END:STANDARD
BEGIN:DAYLIGHT
TZOFFSETFROM:-0500
TZOFFSETTO:-0400
TZNAME:EDT
DTSTART:20250309T070000
END:DAYLIGHT
BEGIN:STANDARD
TZOFFSETFROM:-0400
TZOFFSETTO:-0500
TZNAME:EST
DTSTART:20251102T060000
END:STANDARD
BEGIN:DAYLIGHT
TZOFFSETFROM:-0500
TZOFFSETTO:-0400
TZNAME:EDT
DTSTART:20260308T070000
END:DAYLIGHT
BEGIN:STANDARD
TZOFFSETFROM:-0400
TZOFFSETTO:-0500
TZNAME:EST
DTSTART:20261101T060000
END:STANDARD
END:VTIMEZONE
BEGIN:VEVENT
DTSTART;VALUE=DATE:20250205
DTEND;VALUE=DATE:20250206
DTSTAMP:20260422T213102
CREATED:20250130T203211Z
LAST-MODIFIED:20250130T203211Z
UID:10000185-1738713600-1738799999@cccbsd.org
SUMMARY:Early Release - Students 11:40am
DESCRIPTION:
URL:https://cccbsd.org/event/early-release-students-1140am/
END:VEVENT
BEGIN:VEVENT
DTSTART;VALUE=DATE:20250124
DTEND;VALUE=DATE:20250125
DTSTAMP:20260422T213102
CREATED:20250130T204131Z
LAST-MODIFIED:20250130T204131Z
UID:10000198-1737676800-1737763199@cccbsd.org
SUMMARY:Mismatch Day
DESCRIPTION:Wear stripes with plaid with polka dots – go crazy!
URL:https://cccbsd.org/event/mismatch-day/
END:VEVENT
BEGIN:VEVENT
DTSTART;VALUE=DATE:20250120
DTEND;VALUE=DATE:20250121
DTSTAMP:20260422T213102
CREATED:20250130T203102Z
LAST-MODIFIED:20250130T203102Z
UID:10000184-1737331200-1737417599@cccbsd.org
SUMMARY:MLK Day - No School
DESCRIPTION:
URL:https://cccbsd.org/event/mlk-day-no-school/
END:VEVENT
BEGIN:VEVENT
DTSTART;VALUE=DATE:20250110
DTEND;VALUE=DATE:20250111
DTSTAMP:20260422T213102
CREATED:20250130T204047Z
LAST-MODIFIED:20250130T204047Z
UID:10000197-1736467200-1736553599@cccbsd.org
SUMMARY:Decades Day
DESCRIPTION:Dress in clothing from your favorite decade
URL:https://cccbsd.org/event/decades-day/
END:VEVENT
BEGIN:VEVENT
DTSTART;VALUE=DATE:20250108
DTEND;VALUE=DATE:20250109
DTSTAMP:20260422T213102
CREATED:20250130T203003Z
LAST-MODIFIED:20250130T203003Z
UID:10000183-1736294400-1736380799@cccbsd.org
SUMMARY:Early Release for students- 11:40am
DESCRIPTION:
URL:https://cccbsd.org/event/early-release-for-students-1140am/
END:VEVENT
BEGIN:VEVENT
DTSTART;VALUE=DATE:20250106
DTEND;VALUE=DATE:20250107
DTSTAMP:20260422T213102
CREATED:20250130T202033Z
LAST-MODIFIED:20250130T202033Z
UID:10000182-1736121600-1736207999@cccbsd.org
SUMMARY:100th Day of School
DESCRIPTION:
URL:https://cccbsd.org/event/100th-day-of-school-2/
END:VEVENT
BEGIN:VEVENT
DTSTART;VALUE=DATE:20240726
DTEND;VALUE=DATE:20240727
DTSTAMP:20260422T213102
CREATED:20240401T174003Z
LAST-MODIFIED:20240401T174003Z
UID:10000179-1721952000-1722038399@cccbsd.org
SUMMARY:No School
DESCRIPTION:
URL:https://cccbsd.org/event/no-school-14/
END:VEVENT
BEGIN:VEVENT
DTSTART;VALUE=DATE:20240719
DTEND;VALUE=DATE:20240720
DTSTAMP:20260422T213102
CREATED:20240401T173943Z
LAST-MODIFIED:20240401T173943Z
UID:10000178-1721347200-1721433599@cccbsd.org
SUMMARY:No School
DESCRIPTION:
URL:https://cccbsd.org/event/no-school-13/
END:VEVENT
BEGIN:VEVENT
DTSTART;VALUE=DATE:20240712
DTEND;VALUE=DATE:20240713
DTSTAMP:20260422T213102
CREATED:20240401T173733Z
LAST-MODIFIED:20240401T173914Z
UID:10000177-1720742400-1720828799@cccbsd.org
SUMMARY:No School
DESCRIPTION:
URL:https://cccbsd.org/event/first-day-of-school/
END:VEVENT
BEGIN:VEVENT
DTSTART;TZID=America/New_York:20240710T114500
DTEND;TZID=America/New_York:20240710T114500
DTSTAMP:20260422T213102
CREATED:20240401T174130Z
LAST-MODIFIED:20240401T174130Z
UID:10000180-1720611900-1720611900@cccbsd.org
SUMMARY:Early Release
DESCRIPTION:
URL:https://cccbsd.org/event/early-release-3/
END:VEVENT
BEGIN:VEVENT
DTSTART;VALUE=DATE:20240709
DTEND;VALUE=DATE:20240710
DTSTAMP:20260422T213102
CREATED:20240401T174152Z
LAST-MODIFIED:20240401T174152Z
UID:10000181-1720483200-1720569599@cccbsd.org
SUMMARY:First Day of School
DESCRIPTION:
URL:https://cccbsd.org/event/first-day-of-school-2/
END:VEVENT
BEGIN:VEVENT
DTSTART;TZID=America/New_York:20240708T074500
DTEND;TZID=America/New_York:20240708T151500
DTSTAMP:20260422T213102
CREATED:20240401T173644Z
LAST-MODIFIED:20240401T173656Z
UID:10000176-1720424700-1720451700@cccbsd.org
SUMMARY:All Staff Orientation
DESCRIPTION:
URL:https://cccbsd.org/event/all-staff-orientation-4/
END:VEVENT
BEGIN:VEVENT
DTSTART;TZID=America/New_York:20240617T114500
DTEND;TZID=America/New_York:20240617T114500
DTSTAMP:20260422T213102
CREATED:20240401T173310Z
LAST-MODIFIED:20240401T173310Z
UID:10000175-1718624700-1718624700@cccbsd.org
SUMMARY:Last Day of School
DESCRIPTION:
URL:https://cccbsd.org/event/last-day-of-school-3/
END:VEVENT
BEGIN:VEVENT
DTSTART;VALUE=DATE:20240527
DTEND;VALUE=DATE:20240528
DTSTAMP:20260422T213102
CREATED:20240401T173101Z
LAST-MODIFIED:20240401T173101Z
UID:10000173-1716768000-1716854399@cccbsd.org
SUMMARY:Memorial Day - No School
DESCRIPTION:
URL:https://cccbsd.org/event/memorial-day-no-school-5/
END:VEVENT
BEGIN:VEVENT
DTSTART;TZID=America/New_York:20240511T180000
DTEND;TZID=America/New_York:20240511T220000
DTSTAMP:20260422T213102
CREATED:20240401T173133Z
LAST-MODIFIED:20240529T185457Z
UID:10000174-1715450400-1715464800@cccbsd.org
SUMMARY:Spring Soiree May 11\, 2024
DESCRIPTION:
URL:https://cccbsd.org/event/spring-soiree-2/
END:VEVENT
BEGIN:VEVENT
DTSTART;TZID=America/New_York:20240503T180000
DTEND;TZID=America/New_York:20240503T200000
DTSTAMP:20260422T213102
CREATED:20240401T173032Z
LAST-MODIFIED:20240401T173032Z
UID:10000172-1714759200-1714766400@cccbsd.org
SUMMARY:Star Student Cafe
DESCRIPTION:
URL:https://cccbsd.org/event/star-student-cafe-3/
END:VEVENT
BEGIN:VEVENT
DTSTART;VALUE=DATE:20240415
DTEND;VALUE=DATE:20240420
DTSTAMP:20260422T213102
CREATED:20240401T172936Z
LAST-MODIFIED:20240401T172936Z
UID:10000171-1713139200-1713571199@cccbsd.org
SUMMARY:Spring Vacation
DESCRIPTION:
URL:https://cccbsd.org/event/spring-vacation/
END:VEVENT
BEGIN:VEVENT
DTSTART;VALUE=DATE:20231009
DTEND;VALUE=DATE:20231010
DTSTAMP:20260422T213102
CREATED:20230606T163540Z
LAST-MODIFIED:20230606T164508Z
UID:10000170-1696809600-1696895999@cccbsd.org
SUMMARY:Indigenous People's Day - No School
DESCRIPTION:
URL:https://cccbsd.org/event/indigenous-peoples-day-no-school/
END:VEVENT
BEGIN:VEVENT
DTSTART;TZID=America/New_York:20230914T170000
DTEND;TZID=America/New_York:20230914T180000
DTSTAMP:20260422T213102
CREATED:20230606T163503Z
LAST-MODIFIED:20230606T163503Z
UID:10000169-1694710800-1694714400@cccbsd.org
SUMMARY:Parent Open House
DESCRIPTION:
URL:https://cccbsd.org/event/parent-open-house/
END:VEVENT
BEGIN:VEVENT
DTSTART;VALUE=DATE:20230906
DTEND;VALUE=DATE:20230907
DTSTAMP:20260422T213102
CREATED:20230606T163431Z
LAST-MODIFIED:20230606T163431Z
UID:10000168-1693958400-1694044799@cccbsd.org
SUMMARY:Students Return
DESCRIPTION:
URL:https://cccbsd.org/event/students-return-2/
END:VEVENT
BEGIN:VEVENT
DTSTART;VALUE=DATE:20230905
DTEND;VALUE=DATE:20230906
DTSTAMP:20260422T213102
CREATED:20230606T163358Z
LAST-MODIFIED:20230606T163358Z
UID:10000167-1693872000-1693958399@cccbsd.org
SUMMARY:All Staff Orientation
DESCRIPTION:
URL:https://cccbsd.org/event/all-staff-orientation-3/
END:VEVENT
BEGIN:VEVENT
DTSTART;VALUE=DATE:20230904
DTEND;VALUE=DATE:20230905
DTSTAMP:20260422T213102
CREATED:20230606T163325Z
LAST-MODIFIED:20230606T163325Z
UID:10000166-1693785600-1693871999@cccbsd.org
SUMMARY:Labor Day
DESCRIPTION:
URL:https://cccbsd.org/event/labor-day/
END:VEVENT
BEGIN:VEVENT
DTSTART;TZID=America/New_York:20230818T080000
DTEND;TZID=America/New_York:20230831T170000
DTSTAMP:20260422T213102
CREATED:20230606T162946Z
LAST-MODIFIED:20240529T185937Z
UID:10000164-1692345600-1693501200@cccbsd.org
SUMMARY:Summer Break August 13 - August 30\, 2023
DESCRIPTION:
URL:https://cccbsd.org/event/summer-break-4/
END:VEVENT
BEGIN:VEVENT
DTSTART;VALUE=DATE:20230817
DTEND;VALUE=DATE:20230818
DTSTAMP:20260422T213102
CREATED:20230606T162912Z
LAST-MODIFIED:20230606T162912Z
UID:10000163-1692230400-1692316799@cccbsd.org
SUMMARY:Last Day of Summer Program
DESCRIPTION:
URL:https://cccbsd.org/event/last-day-of-summer-program/
END:VEVENT
BEGIN:VEVENT
DTSTART;VALUE=DATE:20230811
DTEND;VALUE=DATE:20230812
DTSTAMP:20260422T213102
CREATED:20230606T162851Z
LAST-MODIFIED:20230606T162851Z
UID:10000162-1691712000-1691798399@cccbsd.org
SUMMARY:No School
DESCRIPTION:
URL:https://cccbsd.org/event/no-school-12/
END:VEVENT
BEGIN:VEVENT
DTSTART;VALUE=DATE:20230804
DTEND;VALUE=DATE:20230805
DTSTAMP:20260422T213102
CREATED:20230606T162828Z
LAST-MODIFIED:20230606T162828Z
UID:10000161-1691107200-1691193599@cccbsd.org
SUMMARY:No School
DESCRIPTION:
URL:https://cccbsd.org/event/no-school-11/
END:VEVENT
BEGIN:VEVENT
DTSTART;VALUE=DATE:20230728
DTEND;VALUE=DATE:20230729
DTSTAMP:20260422T213102
CREATED:20230606T162756Z
LAST-MODIFIED:20230606T162756Z
UID:10000160-1690502400-1690588799@cccbsd.org
SUMMARY:No School
DESCRIPTION:
URL:https://cccbsd.org/event/no-school-10/
END:VEVENT
BEGIN:VEVENT
DTSTART;VALUE=DATE:20230721
DTEND;VALUE=DATE:20230722
DTSTAMP:20260422T213102
CREATED:20230606T162609Z
LAST-MODIFIED:20230606T162639Z
UID:10000158-1689897600-1689983999@cccbsd.org
SUMMARY:No School
DESCRIPTION:
URL:https://cccbsd.org/event/no-school-8/
END:VEVENT
BEGIN:VEVENT
DTSTART;VALUE=DATE:20230714
DTEND;VALUE=DATE:20230715
DTSTAMP:20260422T213102
CREATED:20230606T162717Z
LAST-MODIFIED:20230606T162726Z
UID:10000159-1689292800-1689379199@cccbsd.org
SUMMARY:No School
DESCRIPTION:
URL:https://cccbsd.org/event/no-school-9/
END:VEVENT
BEGIN:VEVENT
DTSTART;VALUE=DATE:20230711
DTEND;VALUE=DATE:20230712
DTSTAMP:20260422T213102
CREATED:20230606T162520Z
LAST-MODIFIED:20230606T162520Z
UID:10000157-1689033600-1689119999@cccbsd.org
SUMMARY:First Day of Summer Session
DESCRIPTION:
URL:https://cccbsd.org/event/first-day-of-summer-session/
END:VEVENT
END:VCALENDAR