BEGIN:VCALENDAR
VERSION:2.0
PRODID:-//CCCBSD - ECPv6.15.20//NONSGML v1.0//EN
CALSCALE:GREGORIAN
METHOD:PUBLISH
X-WR-CALNAME:CCCBSD
X-ORIGINAL-URL:https://cccbsd.org
X-WR-CALDESC:Events for CCCBSD
REFRESH-INTERVAL;VALUE=DURATION:PT1H
X-Robots-Tag:noindex
X-PUBLISHED-TTL:PT1H
BEGIN:VTIMEZONE
TZID:America/New_York
BEGIN:DAYLIGHT
TZOFFSETFROM:-0500
TZOFFSETTO:-0400
TZNAME:EDT
DTSTART:20210314T070000
END:DAYLIGHT
BEGIN:STANDARD
TZOFFSETFROM:-0400
TZOFFSETTO:-0500
TZNAME:EST
DTSTART:20211107T060000
END:STANDARD
BEGIN:DAYLIGHT
TZOFFSETFROM:-0500
TZOFFSETTO:-0400
TZNAME:EDT
DTSTART:20220313T070000
END:DAYLIGHT
BEGIN:STANDARD
TZOFFSETFROM:-0400
TZOFFSETTO:-0500
TZNAME:EST
DTSTART:20221106T060000
END:STANDARD
BEGIN:DAYLIGHT
TZOFFSETFROM:-0500
TZOFFSETTO:-0400
TZNAME:EDT
DTSTART:20230312T070000
END:DAYLIGHT
BEGIN:STANDARD
TZOFFSETFROM:-0400
TZOFFSETTO:-0500
TZNAME:EST
DTSTART:20231105T060000
END:STANDARD
END:VTIMEZONE
BEGIN:VEVENT
DTSTART;VALUE=DATE:20220617
DTEND;VALUE=DATE:20220618
DTSTAMP:20260423T041615
CREATED:20220201T203919Z
LAST-MODIFIED:20220513T195105Z
UID:10000035-1655424000-1655510399@cccbsd.org
SUMMARY:Fun Friday - Tropical beach day
DESCRIPTION:
URL:https://cccbsd.org/event/fun-friday-hat-day/
END:VEVENT
BEGIN:VEVENT
DTSTART;VALUE=DATE:20220616
DTEND;VALUE=DATE:20220617
DTSTAMP:20260423T041615
CREATED:20220317T160542Z
LAST-MODIFIED:20220317T160542Z
UID:10000036-1655337600-1655423999@cccbsd.org
SUMMARY:Field Day
DESCRIPTION:
URL:https://cccbsd.org/event/field-day/
END:VEVENT
BEGIN:VEVENT
DTSTART;VALUE=DATE:20220610
DTEND;VALUE=DATE:20220611
DTSTAMP:20260423T041615
CREATED:20220201T203854Z
LAST-MODIFIED:20220513T195013Z
UID:10000034-1654819200-1654905599@cccbsd.org
SUMMARY:Fun Friday - Dress like a famous person/celebrity
DESCRIPTION:
URL:https://cccbsd.org/event/fun-friday-tropical-beach-day/
END:VEVENT
BEGIN:VEVENT
DTSTART;TZID=America/New_York:20220604T100000
DTEND;TZID=America/New_York:20220604T120000
DTSTAMP:20260423T041615
CREATED:20220328T180451Z
LAST-MODIFIED:20240529T191714Z
UID:10000121-1654336800-1654344000@cccbsd.org
SUMMARY:Miracle League - 10:00am June 4\, 2022
DESCRIPTION:Game 4- last game of the Spring season.
URL:https://cccbsd.org/event/miracle-league-1000am-3/
END:VEVENT
BEGIN:VEVENT
DTSTART;VALUE=DATE:20220603
DTEND;VALUE=DATE:20220604
DTSTAMP:20260423T041615
CREATED:20220201T203818Z
LAST-MODIFIED:20220201T203818Z
UID:10000033-1654214400-1654300799@cccbsd.org
SUMMARY:Fun Friday - Patriotic Day
DESCRIPTION:
URL:https://cccbsd.org/event/fun-friday-patriotic-day/
END:VEVENT
BEGIN:VEVENT
DTSTART;VALUE=DATE:20220530
DTEND;VALUE=DATE:20220531
DTSTAMP:20260423T041615
CREATED:20220126T161208Z
LAST-MODIFIED:20220126T161208Z
UID:10000025-1653868800-1653955199@cccbsd.org
SUMMARY:Memorial Day - No School
DESCRIPTION:
URL:https://cccbsd.org/event/memorial-day-no-school-3/
END:VEVENT
BEGIN:VEVENT
DTSTART;VALUE=DATE:20220527
DTEND;VALUE=DATE:20220528
DTSTAMP:20260423T041615
CREATED:20220201T203749Z
LAST-MODIFIED:20220201T203749Z
UID:10000032-1653609600-1653695999@cccbsd.org
SUMMARY:Fun Friday - 70's day
DESCRIPTION:
URL:https://cccbsd.org/event/fun-friday-70s-day/
END:VEVENT
BEGIN:VEVENT
DTSTART;TZID=America/New_York:20220521T100000
DTEND;TZID=America/New_York:20220521T120000
DTSTAMP:20260423T041615
CREATED:20220328T180358Z
LAST-MODIFIED:20240529T191702Z
UID:10000040-1653127200-1653134400@cccbsd.org
SUMMARY:Miracle League - 10:00am May 21\, 2022
DESCRIPTION:Game 3
URL:https://cccbsd.org/event/miracle-league-1000am-2/
END:VEVENT
BEGIN:VEVENT
DTSTART;VALUE=DATE:20220520
DTEND;VALUE=DATE:20220521
DTSTAMP:20260423T041615
CREATED:20220201T203708Z
LAST-MODIFIED:20220513T194635Z
UID:10000031-1653004800-1653091199@cccbsd.org
SUMMARY:Fun Friday - Fancy/cool hat day or Formal Day for students attending graduation
DESCRIPTION:
URL:https://cccbsd.org/event/fun-friday-famous-person-celebrity-day/
END:VEVENT
BEGIN:VEVENT
DTSTART;TZID=America/New_York:20220514T100000
DTEND;TZID=America/New_York:20220514T120000
DTSTAMP:20260423T041615
CREATED:20220328T180316Z
LAST-MODIFIED:20220328T180316Z
UID:10000039-1652522400-1652529600@cccbsd.org
SUMMARY:Miracle League - 10:00am
DESCRIPTION:Game 2
URL:https://cccbsd.org/event/miracle-league-1000am/
END:VEVENT
BEGIN:VEVENT
DTSTART;VALUE=DATE:20220513
DTEND;VALUE=DATE:20220514
DTSTAMP:20260423T041615
CREATED:20220201T203523Z
LAST-MODIFIED:20220201T203523Z
UID:10000120-1652400000-1652486399@cccbsd.org
SUMMARY:Fun Friday - Star Wars Day (May 4th)
DESCRIPTION:
URL:https://cccbsd.org/event/fun-friday-star-wars-day-may-4th/
END:VEVENT
BEGIN:VEVENT
DTSTART;VALUE=DATE:20220513
DTEND;VALUE=DATE:20220514
DTSTAMP:20260423T041615
CREATED:20220317T160635Z
LAST-MODIFIED:20220317T160635Z
UID:10000037-1652400000-1652486399@cccbsd.org
SUMMARY:Start Student Cafe
DESCRIPTION:
URL:https://cccbsd.org/event/start-student-cafe/
END:VEVENT
BEGIN:VEVENT
DTSTART;TZID=America/New_York:20220507T100000
DTEND;TZID=America/New_York:20220507T120000
DTSTAMP:20260423T041615
CREATED:20220328T180218Z
LAST-MODIFIED:20220328T180724Z
UID:10000038-1651917600-1651924800@cccbsd.org
SUMMARY:Miracle League - 10:00
DESCRIPTION:Game 1
URL:https://cccbsd.org/event/miracle-league-1000/
END:VEVENT
BEGIN:VEVENT
DTSTART;VALUE=DATE:20220506
DTEND;VALUE=DATE:20220507
DTSTAMP:20260423T041615
CREATED:20220201T203446Z
LAST-MODIFIED:20220201T203446Z
UID:10000119-1651795200-1651881599@cccbsd.org
SUMMARY:Fun Friday - Dress to Impress
DESCRIPTION:
URL:https://cccbsd.org/event/fun-friday-dress-to-impress/
END:VEVENT
BEGIN:VEVENT
DTSTART;VALUE=DATE:20220429
DTEND;VALUE=DATE:20220430
DTSTAMP:20260423T041615
CREATED:20220201T203356Z
LAST-MODIFIED:20220201T203356Z
UID:10000118-1651190400-1651276799@cccbsd.org
SUMMARY:Fun Friday - Backwards Day
DESCRIPTION:
URL:https://cccbsd.org/event/fun-friday-backwards-day/
END:VEVENT
BEGIN:VEVENT
DTSTART;VALUE=DATE:20220418
DTEND;VALUE=DATE:20220423
DTSTAMP:20260423T041615
CREATED:20220126T160938Z
LAST-MODIFIED:20220126T160938Z
UID:10000024-1650240000-1650671999@cccbsd.org
SUMMARY:April Vacation
DESCRIPTION:
URL:https://cccbsd.org/event/april-vacation/
END:VEVENT
BEGIN:VEVENT
DTSTART;VALUE=DATE:20220415
DTEND;VALUE=DATE:20220416
DTSTAMP:20260423T041615
CREATED:20220126T160711Z
LAST-MODIFIED:20220126T160711Z
UID:10000023-1649980800-1650067199@cccbsd.org
SUMMARY:Good Friday - No School
DESCRIPTION:
URL:https://cccbsd.org/event/good-friday-no-school-3/
END:VEVENT
BEGIN:VEVENT
DTSTART;VALUE=DATE:20220408
DTEND;VALUE=DATE:20220409
DTSTAMP:20260423T041615
CREATED:20220201T203317Z
LAST-MODIFIED:20220201T203317Z
UID:10000117-1649376000-1649462399@cccbsd.org
SUMMARY:Fun Friday - Favorite Movie Day
DESCRIPTION:
URL:https://cccbsd.org/event/fun-friday-favorite-movie-day/
END:VEVENT
BEGIN:VEVENT
DTSTART;VALUE=DATE:20220401
DTEND;VALUE=DATE:20220402
DTSTAMP:20260423T041615
CREATED:20220201T203235Z
LAST-MODIFIED:20220201T203235Z
UID:10000116-1648771200-1648857599@cccbsd.org
SUMMARY:Fun Friday - Spectrum of bright colors day for World Autism Day
DESCRIPTION:
URL:https://cccbsd.org/event/fun-friday-spectrum-of-bright-colors-day-for-world-autism-day/
END:VEVENT
BEGIN:VEVENT
DTSTART;VALUE=DATE:20220328
DTEND;VALUE=DATE:20220329
DTSTAMP:20260423T041615
CREATED:20220126T160332Z
LAST-MODIFIED:20220126T160527Z
UID:10000022-1648425600-1648511999@cccbsd.org
SUMMARY:3rd Quarter Ends
DESCRIPTION:
URL:https://cccbsd.org/event/3rd-quarter-ends/
END:VEVENT
BEGIN:VEVENT
DTSTART;VALUE=DATE:20220325
DTEND;VALUE=DATE:20220326
DTSTAMP:20260423T041615
CREATED:20220201T203150Z
LAST-MODIFIED:20220201T203150Z
UID:10000115-1648166400-1648252799@cccbsd.org
SUMMARY:Fun Friday - Wear Green for National Cerebral Palsy Day
DESCRIPTION:
URL:https://cccbsd.org/event/fun-friday-wear-green-for-national-cerebral-palsy-day/
END:VEVENT
BEGIN:VEVENT
DTSTART;TZID=America/New_York:20220318T124000
DTEND;TZID=America/New_York:20220318T124000
DTSTAMP:20260423T041615
CREATED:20220126T160108Z
LAST-MODIFIED:20220126T160108Z
UID:10000021-1647607200-1647607200@cccbsd.org
SUMMARY:Staff Professional Day - Early Release for students at 12:40
DESCRIPTION:
URL:https://cccbsd.org/event/staff-professional-day-early-release-for-students-at-1240/
END:VEVENT
BEGIN:VEVENT
DTSTART;VALUE=DATE:20220318
DTEND;VALUE=DATE:20220319
DTSTAMP:20260423T041615
CREATED:20220201T203108Z
LAST-MODIFIED:20220201T203108Z
UID:10000114-1647561600-1647647999@cccbsd.org
SUMMARY:Fun Friday - Exercise Clothing Day
DESCRIPTION:
URL:https://cccbsd.org/event/fun-friday-exercise-clothing-day/
END:VEVENT
BEGIN:VEVENT
DTSTART;VALUE=DATE:20220311
DTEND;VALUE=DATE:20220312
DTSTAMP:20260423T041615
CREATED:20220201T203036Z
LAST-MODIFIED:20220201T203036Z
UID:10000113-1646956800-1647043199@cccbsd.org
SUMMARY:Fun Friday - Pi Day
DESCRIPTION:
URL:https://cccbsd.org/event/fun-friday-pi-day/
END:VEVENT
BEGIN:VEVENT
DTSTART;VALUE=DATE:20220304
DTEND;VALUE=DATE:20220305
DTSTAMP:20260423T041615
CREATED:20220201T202959Z
LAST-MODIFIED:20220201T202959Z
UID:10000112-1646352000-1646438399@cccbsd.org
SUMMARY:Fun Friday - Favorite Color Day
DESCRIPTION:
URL:https://cccbsd.org/event/fun-friday-favorite-color-day/
END:VEVENT
BEGIN:VEVENT
DTSTART;VALUE=DATE:20220221
DTEND;VALUE=DATE:20220226
DTSTAMP:20260423T041615
CREATED:20220126T155512Z
LAST-MODIFIED:20220126T155512Z
UID:10000110-1645401600-1645833599@cccbsd.org
SUMMARY:February Break
DESCRIPTION:
URL:https://cccbsd.org/event/february-break/
END:VEVENT
BEGIN:VEVENT
DTSTART;VALUE=DATE:20220218
DTEND;VALUE=DATE:20220219
DTSTAMP:20260423T041615
CREATED:20220201T202921Z
LAST-MODIFIED:20220201T202921Z
UID:10000111-1645142400-1645228799@cccbsd.org
SUMMARY:Fun Friday - Pajama Day
DESCRIPTION:
URL:https://cccbsd.org/event/fun-friday-pajama-day/
END:VEVENT
BEGIN:VEVENT
DTSTART;VALUE=DATE:20220211
DTEND;VALUE=DATE:20220212
DTSTAMP:20260423T041615
CREATED:20220201T202857Z
LAST-MODIFIED:20220201T202857Z
UID:10000030-1644537600-1644623999@cccbsd.org
SUMMARY:Fun Friday - Disney Day
DESCRIPTION:
URL:https://cccbsd.org/event/fun-friday-disney-day/
END:VEVENT
BEGIN:VEVENT
DTSTART;TZID=America/New_York:20220210T170000
DTEND;TZID=America/New_York:20220210T183000
DTSTAMP:20260423T041615
CREATED:20220128T194903Z
LAST-MODIFIED:20220128T194903Z
UID:10000028-1644512400-1644517800@cccbsd.org
SUMMARY:Distinguished Speaker Series
DESCRIPTION:Join The Institute in welcoming Dr. Lisa Prock\, MD\, MPH\, as she presents\, “The Impact of Trauma on Children with Complex Developmental Needs.” ASL/English interpreting provided. \nQuestions: TheInstitute@cccbsd.org \nRegistration: https://bit.ly/DistinguishedSpeakerFeb
URL:https://cccbsd.org/event/distinguished-speaker-series/
END:VEVENT
BEGIN:VEVENT
DTSTART;TZID=America/New_York:20220209T120000
DTEND;TZID=America/New_York:20220209T124500
DTSTAMP:20260423T041615
CREATED:20220128T192652Z
LAST-MODIFIED:20220128T194946Z
UID:10000027-1644408000-1644410700@cccbsd.org
SUMMARY:Lunch and Learn with The Clinic: February
DESCRIPTION:How can we expand our definition of literacy beyond reading and writing? What are the true goals of literacy? What skills should be targeted to help complex learners become literate? In this Lunch and Learn\, we will explore strategies to support students to engage with text\, make meaning\, and bridge known and new information. Presented by Teacher of the Deaf and Reading Specialist Maddy Gibson\, M.Ed. ASL/English interpreting provided. \nQuestions: TheClinic@cccbsd.org \nRegister for free here: https://bit.ly/LunchandLearnRegistration
URL:https://cccbsd.org/event/lunch-and-learn-with-the-clinic-february/
END:VEVENT
END:VCALENDAR