BEGIN:VCALENDAR
VERSION:2.0
PRODID:-//CCCBSD - ECPv6.15.20//NONSGML v1.0//EN
CALSCALE:GREGORIAN
METHOD:PUBLISH
X-ORIGINAL-URL:https://cccbsd.org
X-WR-CALDESC:Events for CCCBSD
REFRESH-INTERVAL;VALUE=DURATION:PT1H
X-Robots-Tag:noindex
X-PUBLISHED-TTL:PT1H
BEGIN:VTIMEZONE
TZID:America/New_York
BEGIN:DAYLIGHT
TZOFFSETFROM:-0500
TZOFFSETTO:-0400
TZNAME:EDT
DTSTART:20250309T070000
END:DAYLIGHT
BEGIN:STANDARD
TZOFFSETFROM:-0400
TZOFFSETTO:-0500
TZNAME:EST
DTSTART:20251102T060000
END:STANDARD
BEGIN:DAYLIGHT
TZOFFSETFROM:-0500
TZOFFSETTO:-0400
TZNAME:EDT
DTSTART:20260308T070000
END:DAYLIGHT
BEGIN:STANDARD
TZOFFSETFROM:-0400
TZOFFSETTO:-0500
TZNAME:EST
DTSTART:20261101T060000
END:STANDARD
BEGIN:DAYLIGHT
TZOFFSETFROM:-0500
TZOFFSETTO:-0400
TZNAME:EDT
DTSTART:20270314T070000
END:DAYLIGHT
BEGIN:STANDARD
TZOFFSETFROM:-0400
TZOFFSETTO:-0500
TZNAME:EST
DTSTART:20271107T060000
END:STANDARD
END:VTIMEZONE
BEGIN:VEVENT
DTSTART;TZID=America/New_York:20261128T100000
DTEND;TZID=America/New_York:20261128T150000
DTSTAMP:20260421T155345
CREATED:20260217T203646Z
LAST-MODIFIED:20260306T191903Z
UID:10000288-1795860000-1795878000@cccbsd.org
SUMMARY:BSD Alumni Holiday Craft Fair
DESCRIPTION:10:00am-3:00pm
URL:https://cccbsd.org/event/bsd-alumni-holiday-craft-fair/
CATEGORIES:150 Events
ATTACH;FMTTYPE=image/png:https://cccbsd.org/wp-content/uploads/2026/02/Winter-Crafts-Fair-1.png
END:VEVENT
BEGIN:VEVENT
DTSTART;TZID=America/New_York:20261129T000000
DTEND;TZID=America/New_York:20261129T130000
DTSTAMP:20260421T155345
CREATED:20260106T160029Z
LAST-MODIFIED:20260107T201652Z
UID:10000279-1795910400-1795957200@cccbsd.org
SUMMARY:Beverly Holiday Parade
DESCRIPTION:Beverly Holiday Parade \nCome see CCCBSD’s float!
URL:https://cccbsd.org/event/beverly-holiday-parade/
CATEGORIES:150 Events
ATTACH;FMTTYPE=image/png:https://cccbsd.org/wp-content/uploads/2026/01/logo-BHP2019-v2.png
END:VEVENT
END:VCALENDAR