BEGIN:VCALENDAR
VERSION:2.0
PRODID:-//CCCBSD - ECPv6.15.20//NONSGML v1.0//EN
CALSCALE:GREGORIAN
METHOD:PUBLISH
X-WR-CALNAME:CCCBSD
X-ORIGINAL-URL:https://cccbsd.org
X-WR-CALDESC:Events for CCCBSD
REFRESH-INTERVAL;VALUE=DURATION:PT1H
X-Robots-Tag:noindex
X-PUBLISHED-TTL:PT1H
BEGIN:VTIMEZONE
TZID:America/New_York
BEGIN:DAYLIGHT
TZOFFSETFROM:-0500
TZOFFSETTO:-0400
TZNAME:EDT
DTSTART:20180311T070000
END:DAYLIGHT
BEGIN:STANDARD
TZOFFSETFROM:-0400
TZOFFSETTO:-0500
TZNAME:EST
DTSTART:20181104T060000
END:STANDARD
BEGIN:DAYLIGHT
TZOFFSETFROM:-0500
TZOFFSETTO:-0400
TZNAME:EDT
DTSTART:20190310T070000
END:DAYLIGHT
BEGIN:STANDARD
TZOFFSETFROM:-0400
TZOFFSETTO:-0500
TZNAME:EST
DTSTART:20191103T060000
END:STANDARD
BEGIN:DAYLIGHT
TZOFFSETFROM:-0500
TZOFFSETTO:-0400
TZNAME:EDT
DTSTART:20200308T070000
END:DAYLIGHT
BEGIN:STANDARD
TZOFFSETFROM:-0400
TZOFFSETTO:-0500
TZNAME:EST
DTSTART:20201101T060000
END:STANDARD
BEGIN:DAYLIGHT
TZOFFSETFROM:-0500
TZOFFSETTO:-0400
TZNAME:EDT
DTSTART:20210314T070000
END:DAYLIGHT
BEGIN:STANDARD
TZOFFSETFROM:-0400
TZOFFSETTO:-0500
TZNAME:EST
DTSTART:20211107T060000
END:STANDARD
END:VTIMEZONE
BEGIN:VEVENT
DTSTART;VALUE=DATE:20200320
DTEND;VALUE=DATE:20200321
DTSTAMP:20260423T194612
CREATED:20190808T171010Z
LAST-MODIFIED:20190808T171010Z
UID:10000085-1584662400-1584748799@cccbsd.org
SUMMARY:Professional Day -Early release for students at 12:40 pm
DESCRIPTION:
URL:https://cccbsd.org/event/professional-day-early-release-for-students-at-1240-pm/
END:VEVENT
BEGIN:VEVENT
DTSTART;VALUE=DATE:20200302
DTEND;VALUE=DATE:20200303
DTSTAMP:20260423T194612
CREATED:20190808T155700Z
LAST-MODIFIED:20190808T155700Z
UID:10000066-1583107200-1583193599@cccbsd.org
SUMMARY:Read Across America Day
DESCRIPTION:March 2\, 2020 – Read Across America Day. This is a national celebration honoring Dr. Seuss and encouraging children to get involved in literacy. Students participate in activities in the library\, gym\, art room\, and music room. We also have a special reading from The Cat in the Hat!
URL:https://cccbsd.org/event/read-across-america-day-2/
END:VEVENT
BEGIN:VEVENT
DTSTART;VALUE=DATE:20200217
DTEND;VALUE=DATE:20200222
DTSTAMP:20260423T194612
CREATED:20190808T170919Z
LAST-MODIFIED:20190808T170919Z
UID:10000084-1581897600-1582329599@cccbsd.org
SUMMARY:February Vacation
DESCRIPTION:
URL:https://cccbsd.org/event/february-vacation/
END:VEVENT
BEGIN:VEVENT
DTSTART;VALUE=DATE:20200120
DTEND;VALUE=DATE:20200121
DTSTAMP:20260423T194612
CREATED:20190808T170840Z
LAST-MODIFIED:20190808T170840Z
UID:10000083-1579478400-1579564799@cccbsd.org
SUMMARY:M.L.K. Day - No School
DESCRIPTION:
URL:https://cccbsd.org/event/m-l-k-day/
END:VEVENT
BEGIN:VEVENT
DTSTART;VALUE=DATE:20200110
DTEND;VALUE=DATE:20200111
DTSTAMP:20260423T194612
CREATED:20190808T170811Z
LAST-MODIFIED:20190808T170811Z
UID:10000082-1578614400-1578700799@cccbsd.org
SUMMARY:2nd Term Ends
DESCRIPTION:
URL:https://cccbsd.org/event/2nd-term-ends/
END:VEVENT
BEGIN:VEVENT
DTSTART;VALUE=DATE:20200108
DTEND;VALUE=DATE:20200109
DTSTAMP:20260423T194612
CREATED:20190808T170725Z
LAST-MODIFIED:20190808T170725Z
UID:10000081-1578441600-1578527999@cccbsd.org
SUMMARY:100th Day of School
DESCRIPTION:
URL:https://cccbsd.org/event/100th-day-of-school/
END:VEVENT
BEGIN:VEVENT
DTSTART;VALUE=DATE:20191223
DTEND;VALUE=DATE:20200102
DTSTAMP:20260423T194612
CREATED:20190808T170638Z
LAST-MODIFIED:20190808T170638Z
UID:10000080-1577059200-1577923199@cccbsd.org
SUMMARY:Winter Break
DESCRIPTION:
URL:https://cccbsd.org/event/winter-break/
END:VEVENT
BEGIN:VEVENT
DTSTART;VALUE=DATE:20191220
DTEND;VALUE=DATE:20191221
DTSTAMP:20260423T194612
CREATED:20190808T153521Z
LAST-MODIFIED:20190808T153521Z
UID:10000065-1576800000-1576886399@cccbsd.org
SUMMARY:Ugly Sweater Day!
DESCRIPTION:December 20\, 2019: Ugly Sweater Day! Staff\, faculty\, and students are welcome to wear ugly holiday sweaters as a kick off to our holiday vacation! 
URL:https://cccbsd.org/event/ugly-sweater-day/
END:VEVENT
BEGIN:VEVENT
DTSTART;VALUE=DATE:20191128
DTEND;VALUE=DATE:20191130
DTSTAMP:20260423T194612
CREATED:20190808T170523Z
LAST-MODIFIED:20240529T190245Z
UID:10000079-1574899200-1575071999@cccbsd.org
SUMMARY:Thanksgiving Break November 28 - 29\, 2019
DESCRIPTION:
URL:https://cccbsd.org/event/thanksgiving-break/
END:VEVENT
BEGIN:VEVENT
DTSTART;VALUE=DATE:20191127
DTEND;VALUE=DATE:20191128
DTSTAMP:20260423T194612
CREATED:20190808T153418Z
LAST-MODIFIED:20190808T153418Z
UID:10000064-1574812800-1574899199@cccbsd.org
SUMMARY:Turkey Trot
DESCRIPTION:November 27\, 2019: Turkey Trot. The students will get to trot\, walk\, or roll their way through a race route and cross the finish line during our annual Turkey Trot! A sign up will go out to families to contribute snacks (fruit and water) for all our racers.
URL:https://cccbsd.org/event/turkey-trot-2/
END:VEVENT
BEGIN:VEVENT
DTSTART;TZID=America/New_York:20191121T110000
DTEND;TZID=America/New_York:20191121T130000
DTSTAMP:20260423T194612
CREATED:20190808T153202Z
LAST-MODIFIED:20190808T153202Z
UID:10000063-1574334000-1574341200@cccbsd.org
SUMMARY:CCCBSD Annual Thanksgiving Dinner
DESCRIPTION:November 21\, 2019: CCCBSD Annual Thanksgiving Dinner. CCCBSD hosts a school-wide Thanksgiving luncheon for students\, staff\, family\, and friends. Faculty and staff prepare and serve the entire meal. A signup sheet will be sent out to parents for anyone who would like to volunteer supplies or food. All are welcome to this event! The event occurs between 11AM-1PM\, and your child’s classroom teacher will email you with their lunch time within that 11-1 timeframe. On the same day as Thanksgiving dinner\, there is also a book fair that raises money for the school library. Parents/guardians can buy for themselves or a classroom wish list.
URL:https://cccbsd.org/event/cccbsd-annual-thanksgiving-dinner/
END:VEVENT
BEGIN:VEVENT
DTSTART;VALUE=DATE:20191111
DTEND;VALUE=DATE:20191112
DTSTAMP:20260423T194612
CREATED:20190808T170306Z
LAST-MODIFIED:20190808T170306Z
UID:10000077-1573430400-1573516799@cccbsd.org
SUMMARY:Veteran's Day observed -No School
DESCRIPTION:
URL:https://cccbsd.org/event/veterans-day-observed-no-school/
END:VEVENT
BEGIN:VEVENT
DTSTART;VALUE=DATE:20191031
DTEND;VALUE=DATE:20191101
DTSTAMP:20260423T194612
CREATED:20190808T152927Z
LAST-MODIFIED:20190808T152927Z
UID:10000062-1572480000-1572566399@cccbsd.org
SUMMARY:Harvest Festival
DESCRIPTION:October 31\, 2018: Harvest Festival. The PAG assists members of the CCCBSD staff in planning and running this annual event for the students. The goal is to get students moving in the fresh fall air. The Harvest Festival is held on campus and includes a variety of events such as scavenger hunts\, a pumpkin decorating contest\, and games. Some classes choose to have their students wear their costumes to the festival. CCCBSD does not celebrate Halloween\, but this day allows an outlet for the students to show off their fancy costumes. Parents/Guardians/Grandparents are welcome to come and see their student participate in this event!
URL:https://cccbsd.org/event/harvest-festival-2/
END:VEVENT
BEGIN:VEVENT
DTSTART;VALUE=DATE:20191025
DTEND;VALUE=DATE:20191026
DTSTAMP:20260423T194612
CREATED:20191008T192109Z
LAST-MODIFIED:20191008T192109Z
UID:10000001-1571961600-1572047999@cccbsd.org
SUMMARY:STEAM Challenge
DESCRIPTION:
URL:https://cccbsd.org/event/steam-challenge/
END:VEVENT
BEGIN:VEVENT
DTSTART;VALUE=DATE:20191021
DTEND;VALUE=DATE:20191022
DTSTAMP:20260423T194612
CREATED:20190808T152741Z
LAST-MODIFIED:20190808T152741Z
UID:10000061-1571616000-1571702399@cccbsd.org
SUMMARY:Rett Syndrome Awareness Month (celebrated)
DESCRIPTION:October 21\, 2019: October is Rett Syndrome Awareness Month. To show support for our students and families with Rett syndrome\, increase understanding and education about Rett syndrome in the community\, and celebrate our students’ individuality and amazing abilities\, we are asking staff and students to wear purple to raise awareness for Rett Syndrome.
URL:https://cccbsd.org/event/rett-syndrome-awareness-month/
END:VEVENT
BEGIN:VEVENT
DTSTART;VALUE=DATE:20191016
DTEND;VALUE=DATE:20191017
DTSTAMP:20260423T194612
CREATED:20190808T162131Z
LAST-MODIFIED:20190808T162131Z
UID:10000076-1571184000-1571270399@cccbsd.org
SUMMARY:First Term Ends
DESCRIPTION:
URL:https://cccbsd.org/event/first-term-ends/
END:VEVENT
BEGIN:VEVENT
DTSTART;VALUE=DATE:20191014
DTEND;VALUE=DATE:20191015
DTSTAMP:20260423T194612
CREATED:20190808T162053Z
LAST-MODIFIED:20190808T162053Z
UID:10000075-1571011200-1571097599@cccbsd.org
SUMMARY:Columbus Day -No School
DESCRIPTION:
URL:https://cccbsd.org/event/columbus-day-no-school/
END:VEVENT
BEGIN:VEVENT
DTSTART;VALUE=DATE:20191009
DTEND;VALUE=DATE:20191010
DTSTAMP:20260423T194612
CREATED:20190808T162016Z
LAST-MODIFIED:20190808T162016Z
UID:10000074-1570579200-1570665599@cccbsd.org
SUMMARY:Yom Kippur -No School
DESCRIPTION:
URL:https://cccbsd.org/event/yom-kippur-no-school/
END:VEVENT
BEGIN:VEVENT
DTSTART;VALUE=DATE:20191004
DTEND;VALUE=DATE:20191005
DTSTAMP:20260423T194612
CREATED:20190808T152403Z
LAST-MODIFIED:20190808T152403Z
UID:10000060-1570147200-1570233599@cccbsd.org
SUMMARY:World Cerebral Palsy Awareness Day(Celebrated)
DESCRIPTION:October 4\, 2019: World Cerebral Palsy Awareness Day is October 6th (Sunday). To show support for our students and families with cerebral palsy\, increase understanding and education about cerebral palsy in the community\, and celebrate our students’ individuality and amazing abilities\, we are asking staff and students to wear green to raise awareness for Cerebral Palsy
URL:https://cccbsd.org/event/world-cerebral-palsy-awareness-daycelebrated/
END:VEVENT
BEGIN:VEVENT
DTSTART;VALUE=DATE:20190930
DTEND;VALUE=DATE:20191001
DTSTAMP:20260423T194612
CREATED:20190808T161938Z
LAST-MODIFIED:20240529T185706Z
UID:10000073-1569801600-1569887999@cccbsd.org
SUMMARY:Rosh Hashanah -No School September 30\, 2019
DESCRIPTION:
URL:https://cccbsd.org/event/rosh-hashanah-no-school/
END:VEVENT
BEGIN:VEVENT
DTSTART;VALUE=DATE:20190927
DTEND;VALUE=DATE:20190928
DTSTAMP:20260423T194612
CREATED:20190808T151624Z
LAST-MODIFIED:20190808T151624Z
UID:10000059-1569542400-1569628799@cccbsd.org
SUMMARY:Microcephaly Awareness Day (recognized)
DESCRIPTION:September 27\, 2019: Microcephaly Awareness Day (recognized on Monday\, September 30th – no school). To show support for our students and families with microcephaly\, increase understanding and education about microcephaly in the community\, and celebrate our students’ individuality and amazing abilities\, we are asking staff and students to wear yellow to raise awareness for microcephaly.
URL:https://cccbsd.org/event/microcephaly-awareness-day-recognized/
END:VEVENT
BEGIN:VEVENT
DTSTART;VALUE=DATE:20190923
DTEND;VALUE=DATE:20190928
DTSTAMP:20260423T194612
CREATED:20190808T151336Z
LAST-MODIFIED:20190808T151336Z
UID:10000058-1569196800-1569628799@cccbsd.org
SUMMARY:Deaf Awareness Week
DESCRIPTION:September 23-27\, 2019: Deaf Awareness Week. A variety of activities are planned for classroom students and staff to attend.
URL:https://cccbsd.org/event/deaf-awareness-week-2/
END:VEVENT
BEGIN:VEVENT
DTSTART;VALUE=DATE:20190923
DTEND;VALUE=DATE:20190924
DTSTAMP:20260423T194612
CREATED:20190808T151017Z
LAST-MODIFIED:20190808T151017Z
UID:10000057-1569196800-1569283199@cccbsd.org
SUMMARY:International Sign Language Day
DESCRIPTION:September 23\, 2019: International Day of Sign Language. This day recognizes the importance of sign language and services in sign language. In recognition of this day\, we are asking staff and students to wear ASL or fingerspelling clothing or jewelry.  \n 
URL:https://cccbsd.org/event/international-sign-language-day/
END:VEVENT
BEGIN:VEVENT
DTSTART;TZID=America/New_York:20190922T080000
DTEND;TZID=America/New_York:20190922T120000
DTSTAMP:20260423T194612
CREATED:20190514T173356Z
LAST-MODIFIED:20190514T173356Z
UID:10000055-1569139200-1569153600@cccbsd.org
SUMMARY:Lone Gull 10K Road Race to Benefit CCCBSD
DESCRIPTION:
URL:https://cccbsd.org/event/lone-gull-10k-road-race-to-benefit-cccbsd/
END:VEVENT
BEGIN:VEVENT
DTSTART;TZID=America/New_York:20190912T170000
DTEND;TZID=America/New_York:20190912T180000
DTSTAMP:20260423T194612
CREATED:20190808T150824Z
LAST-MODIFIED:20190808T150824Z
UID:10000056-1568307600-1568311200@cccbsd.org
SUMMARY:CCCBSD Open House
DESCRIPTION:September 12\, 2019\, 5PM-6PM: CCCBSD Open House. This is an opportunity for parents and guardians to see their child’s classroom and meet his/her teacher\, paraprofessionals\, therapists\, and specialists. Throughout the night\, the teacher will give an overview of the curriculum for the classroom. Related service providers and specialists will be available throughout the hour for meet and greets; They will be at tables in the upper floor hallway of the new wing. Following the open house\, there will be a Parent Advisory Group (PAG) meeting at 6:00 in the Library. PAG is a great opportunity for families to be involved with the school and help coordinate events! All Parents/Guardians are welcome and encouraged to join PAG!
URL:https://cccbsd.org/event/cccbsd-open-house-2/
END:VEVENT
BEGIN:VEVENT
DTSTART;VALUE=DATE:20190904
DTEND;VALUE=DATE:20190905
DTSTAMP:20260423T194612
CREATED:20190808T161006Z
LAST-MODIFIED:20190808T161006Z
UID:10000070-1567555200-1567641599@cccbsd.org
SUMMARY:School Reopens to students
DESCRIPTION:
URL:https://cccbsd.org/event/school-reopens-to-students/
END:VEVENT
BEGIN:VEVENT
DTSTART;TZID=America/New_York:20190903T074500
DTEND;TZID=America/New_York:20190903T151500
DTSTAMP:20260423T194612
CREATED:20190808T161821Z
LAST-MODIFIED:20190808T161821Z
UID:10000072-1567496700-1567523700@cccbsd.org
SUMMARY:All Staff Orientation
DESCRIPTION:
URL:https://cccbsd.org/event/all-staff-orientation/
END:VEVENT
BEGIN:VEVENT
DTSTART;VALUE=DATE:20190816
DTEND;VALUE=DATE:20190904
DTSTAMP:20260423T194612
CREATED:20190808T161556Z
LAST-MODIFIED:20240529T185755Z
UID:10000071-1565913600-1567555199@cccbsd.org
SUMMARY:Summer Break August 19 - September 3\, 2019
DESCRIPTION:
URL:https://cccbsd.org/event/summer-break/
END:VEVENT
BEGIN:VEVENT
DTSTART;VALUE=DATE:20190808
DTEND;VALUE=DATE:20190809
DTSTAMP:20260423T194612
CREATED:20190808T170422Z
LAST-MODIFIED:20190808T170422Z
UID:10000078-1565222400-1565308799@cccbsd.org
SUMMARY:Early Release Day
DESCRIPTION:12:40 pm-students \n1:00 pm- staff
URL:https://cccbsd.org/event/early-release-day/
END:VEVENT
BEGIN:VEVENT
DTSTART;TZID=America/New_York:20190503T170000
DTEND;TZID=America/New_York:20190503T190000
DTSTAMP:20260423T194612
CREATED:20180813T174201Z
LAST-MODIFIED:20180813T174201Z
UID:10000052-1556902800-1556910000@cccbsd.org
SUMMARY:Star Student Cafe
DESCRIPTION:Star Student Cafe is our annual event open to parents and the community\, which showcases our students and their amazing work. Concessions and raffles are available throughout the night. \nThe event will take place in the CCCBSD school gym\, and will surround the theme of Helping Hand in Hand\, reflecting the school-wide theme of the quarter\, Helping in Our Community. \nAll are welcome to this event!
URL:https://cccbsd.org/event/star-student-cafe/
END:VEVENT
END:VCALENDAR