BEGIN:VCALENDAR
VERSION:2.0
PRODID:-//CCCBSD - ECPv6.15.20//NONSGML v1.0//EN
CALSCALE:GREGORIAN
METHOD:PUBLISH
X-WR-CALNAME:CCCBSD
X-ORIGINAL-URL:https://cccbsd.org
X-WR-CALDESC:Events for CCCBSD
REFRESH-INTERVAL;VALUE=DURATION:PT1H
X-Robots-Tag:noindex
X-PUBLISHED-TTL:PT1H
BEGIN:VTIMEZONE
TZID:America/New_York
BEGIN:DAYLIGHT
TZOFFSETFROM:-0500
TZOFFSETTO:-0400
TZNAME:EDT
DTSTART:20250309T070000
END:DAYLIGHT
BEGIN:STANDARD
TZOFFSETFROM:-0400
TZOFFSETTO:-0500
TZNAME:EST
DTSTART:20251102T060000
END:STANDARD
BEGIN:DAYLIGHT
TZOFFSETFROM:-0500
TZOFFSETTO:-0400
TZNAME:EDT
DTSTART:20260308T070000
END:DAYLIGHT
BEGIN:STANDARD
TZOFFSETFROM:-0400
TZOFFSETTO:-0500
TZNAME:EST
DTSTART:20261101T060000
END:STANDARD
BEGIN:DAYLIGHT
TZOFFSETFROM:-0500
TZOFFSETTO:-0400
TZNAME:EDT
DTSTART:20270314T070000
END:DAYLIGHT
BEGIN:STANDARD
TZOFFSETFROM:-0400
TZOFFSETTO:-0500
TZNAME:EST
DTSTART:20271107T060000
END:STANDARD
END:VTIMEZONE
BEGIN:VEVENT
DTSTART;VALUE=DATE:20260530
DTEND;VALUE=DATE:20260531
DTSTAMP:20260421T195506
CREATED:20260106T160028Z
LAST-MODIFIED:20260211T210458Z
UID:10000262-1780099200-1780185599@cccbsd.org
SUMMARY:CCCBSD Spring Alumni Yard Sale
DESCRIPTION:
URL:https://cccbsd.org/event/cccbsd-alumni-yard-sale/
LOCATION:CCCBSD\, 6 Echo Avenue\, Beverly\, MA\, 01915\, United States
CATEGORIES:150 Events
ATTACH;FMTTYPE=image/png:https://cccbsd.org/wp-content/uploads/2026/01/SM-Poster-Spring-Yard-Sale.png
END:VEVENT
BEGIN:VEVENT
DTSTART;TZID=America/New_York:20260530T170000
DTEND;TZID=America/New_York:20260530T190000
DTSTAMP:20260421T195506
CREATED:20260226T193229Z
LAST-MODIFIED:20260226T193229Z
UID:10000289-1780160400-1780167600@cccbsd.org
SUMMARY:ASL Game Night
DESCRIPTION:More info to come.
URL:https://cccbsd.org/event/asl-game-night/
CATEGORIES:150 Events
END:VEVENT
BEGIN:VEVENT
DTSTART;TZID=America/New_York:20260601T000000
DTEND;TZID=America/New_York:20260630T235900
DTSTAMP:20260421T195506
CREATED:20260106T160029Z
LAST-MODIFIED:20260114T153841Z
UID:10000266-1780272000-1782863940@cccbsd.org
SUMMARY:City Wide Scavenger Hunt
DESCRIPTION:City Wide Scavenger Hunt \nJune 1-  Beverly 400th Scavenger Hunt – Come visit CCCBSD! Explore beautiful Beverly through an interactive scavenger hunt. This activity is fun for all ages and available the entire month of June! Roam Beverly’s streets\, parks\, and beaches to find clues\, solve riddles\, and complete tasks\, such as taking pictures and checking in to local businesses\, all while learning some history and discovering the charm. \n 
URL:https://cccbsd.org/event/city-wide-scavenger-hunt/
CATEGORIES:150 Events
ATTACH;FMTTYPE=image/png:https://cccbsd.org/wp-content/uploads/2026/01/Screenshot-2026-01-09-at-1.28.29-PM.png
END:VEVENT
BEGIN:VEVENT
DTSTART;VALUE=DATE:20260613
DTEND;VALUE=DATE:20260614
DTSTAMP:20260421T195506
CREATED:20260106T160029Z
LAST-MODIFIED:20260306T184218Z
UID:10000265-1781308800-1781395199@cccbsd.org
SUMMARY:CCCBSD Alumni Craft Fair
DESCRIPTION:CCCBSD Alumni Craft Fair \n 
URL:https://cccbsd.org/event/cccbsd-alumni-craft-fair/
CATEGORIES:150 Events
ATTACH;FMTTYPE=image/png:https://cccbsd.org/wp-content/uploads/2026/01/By-the-sea-craft-fair-1.png
END:VEVENT
BEGIN:VEVENT
DTSTART;VALUE=DATE:20260627
DTEND;VALUE=DATE:20260628
DTSTAMP:20260421T195506
CREATED:20260106T160029Z
LAST-MODIFIED:20260116T205412Z
UID:10000269-1782518400-1782604799@cccbsd.org
SUMMARY:Deaf Night Out
DESCRIPTION:Deaf Night Out – NEDSO Softball Game Innocenti Field followed by a meet up at BackBeat Brewing.  June 27th
URL:https://cccbsd.org/event/deaf-night-out/
CATEGORIES:150 Events
ATTACH;FMTTYPE=image/png:https://cccbsd.org/wp-content/uploads/2026/01/Deaf-Night-Out.png
END:VEVENT
BEGIN:VEVENT
DTSTART;VALUE=DATE:20260711
DTEND;VALUE=DATE:20260712
DTSTAMP:20260421T195506
CREATED:20260106T160029Z
LAST-MODIFIED:20260116T191837Z
UID:10000271-1783728000-1783814399@cccbsd.org
SUMMARY:Community Carnival Birthday Party
DESCRIPTION:Join Us for Our  Community Carnival! \nWe are excited to invite our school community and the greater community to a fun\, inclusive\, and accessible Community Carnival for all ages! This joyful event is designed to be welcoming to everyone\, with ASL interpreters provided throughout the day to ensure full access. \nThe carnival will feature a variety of activities\, including games\, face painting\, ASL story time\, and a petting zoo\, along with live performances in the afternoon and evening. There will be something for everyone to enjoy\, whether you’re stopping by for a short visit or spending the whole day with us. Bring your family\, friends\, and neighbors and come celebrate community\, inclusion\, and fun. We can’t wait to see you there! \n\n \n\n\nJJ Jones – Deaf Mime – 1:00 showtime\n James “JJ” Jones was born in Kansas City\, Missouri and has been deaf since birth\, but can partially hear with his hearing aid.  He first discovered “pantomime” at an early age by watching the Red Skelton Show\, which was not telecaptioned (cc) at that time.  “JJ” first performed mime in school around the age of 10.\n\n“JJ” learned more mime just before he graduated from the National Technical Institute for the Deaf (N.T.I.D.) in Rochester\, NY.  While there\, he attended many mime workshops by Claude Kipnis\, Keith Berger\, Dimitri\, Bernard Bragg (from the National Theatre of the Deaf)\, Francisco Reynders (Marcel Marceau’s classmate) and many other mime artists.  “JJ” improved his mime skills by observing the famous mime artist\, Marcel Marceau.  “JJ” fulfilled one of his lifelong dreams by meeting his role models Red Skelton and Marcel Marceau in person. \n“JJ” performs mime programs ranging from street mime to multimedia presentations.https://jjmime.com \n\n\n\n\nJay Larkin is a lively and engaging musician whose love for music and family shines through every performance. A guitarist and singer active in the Maine music scene\, Jay is known for his energetic solo shows and as a member of the popular Maine band SKOSH. \n\nAs the father of a daughter with Autism\, Jay brings a deeply personal and joyful perspective to his work. He has a special passion for singing children’s songs and creating inclusive\, fun musical experiences that resonate with kids and families of all abilities. His performances are interactive\, upbeat\, and filled with heart—making him a favorite with audiences of all ages. \nJay’s music and upcoming performances can be found on social media\, including Instagram @jay_larkin_ and Facebook @jlarkin1994\, where he shares his latest shows and connects with fans. \nWe are excited to welcome Jay Larkin as an entertainer who brings energy\, warmth\, and joy to our event. \n\n  \n  \n  \n \nSean Forbes is a groundbreaking hip-hop artist\, drummer\, songwriter\, and speaker who has spent his career breaking barriers and bridging the gap between the Deaf and hearing worlds. A Detroit native and co-founder of the Deaf Professional Arts Network (D-PAN)\, Sean is renowned for his high-energy performances that combine thumping beats\, signed lyrics\, and visual storytelling. \nCareer Highlights: \n\n\nChart-Topping Music: His 2020 album Little Victories debuted at #1 on the iTunes Hip-Hop charts and on the Billboard charts\, a historic achievement for a Deaf artist. \n\n\nD-PAN Co-Founder: Pioneered accessible music culture by co-founding D-PAN\, producing American Sign Language music videos for artists like Eminem\, John Mayer\, The White Stripes\, and Christina Aguilera. \n\n\nAward-Winning Artist: Multiple-time recipient of the Detroit Music Awards\, including Outstanding Hip-Hop Artist. \n\n\nNational Recognition: Featured on NPR\, CNN\, and in the Washington Post for his innovations in music accessibility and performance. \n\n\nKeynote Speaker: A sought-after speaker\, Sean has performed and spoken for audiences of thousands at venues\, events\, corporations\, and universities worldwide. \n\n\nSuper Bowl LVI Halftime Show: Made history performing Eminem\, Dr. Dre\, Snoop Dogg\, Mary J. Blige\, and Kendrick Lamar as the first ASL performer for the Pepsi Halftime Show alongside longtime friend Warren “Wawa” Snipe. \n\n\n“The world is run by those who show up” — Sean ForbesTime TBD – NIGHT performance \n  \n  \n  \n  \n 
URL:https://cccbsd.org/event/community-carnival-birthday-party-2/
CATEGORIES:150 Events
ATTACH;FMTTYPE=image/png:https://cccbsd.org/wp-content/uploads/2026/01/Red-and-White-Minimalist-Carnival-Fun-Fair-Flyer.png
END:VEVENT
BEGIN:VEVENT
DTSTART;TZID=America/New_York:20260720T080000
DTEND;TZID=America/New_York:20260720T170000
DTSTAMP:20260421T195506
CREATED:20260115T155739Z
LAST-MODIFIED:20260210T205407Z
UID:10000284-1784534400-1784566800@cccbsd.org
SUMMARY:Deaf Kids Code
DESCRIPTION:Week of July 20th\nDeaf Kids Code Summer Learning Experience for Deaf and Hard of Hearing students exploring computer science \, design technology and thinking skills .
URL:https://cccbsd.org/event/deaf-kids-code/
CATEGORIES:150 Events
ATTACH;FMTTYPE=image/png:https://cccbsd.org/wp-content/uploads/2026/01/Screenshot-2026-02-10-155325.png
END:VEVENT
BEGIN:VEVENT
DTSTART;VALUE=DATE:20260806
DTEND;VALUE=DATE:20260807
DTSTAMP:20260421T195506
CREATED:20260106T160029Z
LAST-MODIFIED:20260115T154039Z
UID:10000272-1785974400-1786060799@cccbsd.org
SUMMARY:CCCBSD Homecoming Parade
DESCRIPTION:CCCBSD Homecoming Parade \nCome join the fun and cheer our students on at our Homecoming Parade on campus and the crowning of our CCCBSD Homecoming King and Queen!
URL:https://cccbsd.org/event/cccbsd-homecoming-parade/
CATEGORIES:150 Events
ATTACH;FMTTYPE=image/png:https://cccbsd.org/wp-content/uploads/2026/01/image-34.png
END:VEVENT
BEGIN:VEVENT
DTSTART;VALUE=DATE:20260912
DTEND;VALUE=DATE:20260913
DTSTAMP:20260421T195506
CREATED:20260106T160029Z
LAST-MODIFIED:20260217T204239Z
UID:10000274-1789171200-1789257599@cccbsd.org
SUMMARY:CCCBSD Fall Alumni Yard Sale
DESCRIPTION:Yardsale is 8am-3pm
URL:https://cccbsd.org/event/cccbsd-alumni-yard-sale-2/
CATEGORIES:150 Events
ATTACH;FMTTYPE=image/png:https://cccbsd.org/wp-content/uploads/2026/01/Fall-yardsale-.png
END:VEVENT
BEGIN:VEVENT
DTSTART;VALUE=DATE:20260912
DTEND;VALUE=DATE:20260913
DTSTAMP:20260421T195506
CREATED:20260106T160029Z
LAST-MODIFIED:20260306T183630Z
UID:10000273-1789171200-1789257599@cccbsd.org
SUMMARY:Deaf Culture Festival
DESCRIPTION:Deaf Culture Festival –\n Vendor Registration Link\n\nDeaf Culture Festival \nJoin us for a vibrant Deaf Culture Festival celebrating language\, identity\, and community! Families and community members of all ages are invited to experience a day filled with connection\, creativity\, and learning. \nThe festival will feature interactive booths\, artwork by Deaf artists\, and information about community resources and services that support Deaf and Hard of Hearing individuals and families. Visitors will have opportunities to engage in hands-on activities\, learn about Deaf culture and American Sign Language\, and connect with organizations serving our community. \nThis event is designed to be welcoming\, accessible\, and family-friendly\, offering something for everyone—whether you are Deaf\, Hard of Hearing\, a family member\, an educator\, or a community supporter. \nCome celebrate Deaf culture\, support local artists and organizations\, and enjoy a day of shared experiences and community pride. We look forward to welcoming you!
URL:https://cccbsd.org/event/deaf-culture-festival/
LOCATION:CCCBSD\, 6 Echo Avenue\, Beverly\, MA\, 01915\, United States
CATEGORIES:150 Events
ATTACH;FMTTYPE=image/png:https://cccbsd.org/wp-content/uploads/2026/01/image-35.png
END:VEVENT
BEGIN:VEVENT
DTSTART;VALUE=DATE:20260920
DTEND;VALUE=DATE:20260921
DTSTAMP:20260421T195506
CREATED:20260106T160029Z
LAST-MODIFIED:20260116T192158Z
UID:10000275-1789862400-1789948799@cccbsd.org
SUMMARY:Lone Gull Race
DESCRIPTION:Lone Gull 10K Road Race – USATF Grand Prix Series Event\nGood Harbor Beach\, Gloucester\, MA 9:00am 
URL:https://cccbsd.org/event/lone-gull-race/
CATEGORIES:150 Events
ATTACH;FMTTYPE=image/png:https://cccbsd.org/wp-content/uploads/2026/01/Untitled-design-77.png
END:VEVENT
BEGIN:VEVENT
DTSTART;VALUE=DATE:20261001
DTEND;VALUE=DATE:20261002
DTSTAMP:20260421T195506
CREATED:20260106T160029Z
LAST-MODIFIED:20260115T155257Z
UID:10000276-1790812800-1790899199@cccbsd.org
SUMMARY:Coffee Shop AAC Activity
DESCRIPTION:October is International AAC Awareness Month\, dedicated to raising awareness for Augmentative and Alternative Communication (AAC)\, which includes any method used to supplement or replace spoken language\, like picture boards\, gestures\, or speech-generating devices\, to help individuals communicate and participate fully in life.
URL:https://cccbsd.org/event/coffee-shop-aac-activity/
CATEGORIES:150 Events
ATTACH;FMTTYPE=image/jpeg:https://cccbsd.org/wp-content/uploads/2026/01/AAC.jpg
END:VEVENT
BEGIN:VEVENT
DTSTART;TZID=America/New_York:20261017T100000
DTEND;TZID=America/New_York:20261017T120000
DTSTAMP:20260421T195506
CREATED:20260106T160029Z
LAST-MODIFIED:20260324T160643Z
UID:10000277-1792231200-1792238400@cccbsd.org
SUMMARY:Community Trunk or Treat
DESCRIPTION:Community Trunk or Treat \nLower Parking Lot of CCCBSD \nOctober 17\, 2026 \n10:00 – 12:00 \nSponsored by the BSD Alumni Association \n 
URL:https://cccbsd.org/event/community-trunk-or-treat/
CATEGORIES:150 Events
ATTACH;FMTTYPE=image/png:https://cccbsd.org/wp-content/uploads/2026/01/Trunk-or-Treat-1.png
END:VEVENT
BEGIN:VEVENT
DTSTART;TZID=America/New_York:20261018T000000
DTEND;TZID=America/New_York:20261018T090000
DTSTAMP:20260421T195506
CREATED:20260106T160029Z
LAST-MODIFIED:20260211T210245Z
UID:10000278-1792281600-1792314000@cccbsd.org
SUMMARY:Solomon Wealth Car Show
DESCRIPTION:Solomon Wealth Car Show \nBenefiting CCCBSD and other local organizations. \nHome \n\nCome see our Accessible Van! \nDate TBD
URL:https://cccbsd.org/event/solomon-wealth-car-show/
CATEGORIES:150 Events
ATTACH;FMTTYPE=image/png:https://cccbsd.org/wp-content/uploads/2026/01/Screenshot-2026-01-07-155809.png
END:VEVENT
BEGIN:VEVENT
DTSTART;TZID=America/New_York:20261128T100000
DTEND;TZID=America/New_York:20261128T150000
DTSTAMP:20260421T195506
CREATED:20260217T203646Z
LAST-MODIFIED:20260306T191903Z
UID:10000288-1795860000-1795878000@cccbsd.org
SUMMARY:BSD Alumni Holiday Craft Fair
DESCRIPTION:10:00am-3:00pm
URL:https://cccbsd.org/event/bsd-alumni-holiday-craft-fair/
CATEGORIES:150 Events
ATTACH;FMTTYPE=image/png:https://cccbsd.org/wp-content/uploads/2026/02/Winter-Crafts-Fair-1.png
END:VEVENT
BEGIN:VEVENT
DTSTART;TZID=America/New_York:20261129T000000
DTEND;TZID=America/New_York:20261129T130000
DTSTAMP:20260421T195506
CREATED:20260106T160029Z
LAST-MODIFIED:20260107T201652Z
UID:10000279-1795910400-1795957200@cccbsd.org
SUMMARY:Beverly Holiday Parade
DESCRIPTION:Beverly Holiday Parade \nCome see CCCBSD’s float!
URL:https://cccbsd.org/event/beverly-holiday-parade/
CATEGORIES:150 Events
ATTACH;FMTTYPE=image/png:https://cccbsd.org/wp-content/uploads/2026/01/logo-BHP2019-v2.png
END:VEVENT
END:VCALENDAR