BEGIN:VCALENDAR
VERSION:2.0
PRODID:-//CCCBSD - ECPv6.15.20//NONSGML v1.0//EN
CALSCALE:GREGORIAN
METHOD:PUBLISH
X-WR-CALNAME:CCCBSD
X-ORIGINAL-URL:https://cccbsd.org
X-WR-CALDESC:Events for CCCBSD
REFRESH-INTERVAL;VALUE=DURATION:PT1H
X-Robots-Tag:noindex
X-PUBLISHED-TTL:PT1H
BEGIN:VTIMEZONE
TZID:America/New_York
BEGIN:DAYLIGHT
TZOFFSETFROM:-0500
TZOFFSETTO:-0400
TZNAME:EDT
DTSTART:20180311T070000
END:DAYLIGHT
BEGIN:STANDARD
TZOFFSETFROM:-0400
TZOFFSETTO:-0500
TZNAME:EST
DTSTART:20181104T060000
END:STANDARD
BEGIN:DAYLIGHT
TZOFFSETFROM:-0500
TZOFFSETTO:-0400
TZNAME:EDT
DTSTART:20190310T070000
END:DAYLIGHT
BEGIN:STANDARD
TZOFFSETFROM:-0400
TZOFFSETTO:-0500
TZNAME:EST
DTSTART:20191103T060000
END:STANDARD
BEGIN:DAYLIGHT
TZOFFSETFROM:-0500
TZOFFSETTO:-0400
TZNAME:EDT
DTSTART:20200308T070000
END:DAYLIGHT
BEGIN:STANDARD
TZOFFSETFROM:-0400
TZOFFSETTO:-0500
TZNAME:EST
DTSTART:20201101T060000
END:STANDARD
END:VTIMEZONE
BEGIN:VEVENT
DTSTART;VALUE=DATE:20191014
DTEND;VALUE=DATE:20191015
DTSTAMP:20260424T075201
CREATED:20190808T162053Z
LAST-MODIFIED:20190808T162053Z
UID:10000075-1571011200-1571097599@cccbsd.org
SUMMARY:Columbus Day -No School
DESCRIPTION:
URL:https://cccbsd.org/event/columbus-day-no-school/
END:VEVENT
BEGIN:VEVENT
DTSTART;VALUE=DATE:20191009
DTEND;VALUE=DATE:20191010
DTSTAMP:20260424T075201
CREATED:20190808T162016Z
LAST-MODIFIED:20190808T162016Z
UID:10000074-1570579200-1570665599@cccbsd.org
SUMMARY:Yom Kippur -No School
DESCRIPTION:
URL:https://cccbsd.org/event/yom-kippur-no-school/
END:VEVENT
BEGIN:VEVENT
DTSTART;VALUE=DATE:20191004
DTEND;VALUE=DATE:20191005
DTSTAMP:20260424T075201
CREATED:20190808T152403Z
LAST-MODIFIED:20190808T152403Z
UID:10000060-1570147200-1570233599@cccbsd.org
SUMMARY:World Cerebral Palsy Awareness Day(Celebrated)
DESCRIPTION:October 4\, 2019: World Cerebral Palsy Awareness Day is October 6th (Sunday). To show support for our students and families with cerebral palsy\, increase understanding and education about cerebral palsy in the community\, and celebrate our students’ individuality and amazing abilities\, we are asking staff and students to wear green to raise awareness for Cerebral Palsy
URL:https://cccbsd.org/event/world-cerebral-palsy-awareness-daycelebrated/
END:VEVENT
BEGIN:VEVENT
DTSTART;VALUE=DATE:20190930
DTEND;VALUE=DATE:20191001
DTSTAMP:20260424T075201
CREATED:20190808T161938Z
LAST-MODIFIED:20240529T185706Z
UID:10000073-1569801600-1569887999@cccbsd.org
SUMMARY:Rosh Hashanah -No School September 30\, 2019
DESCRIPTION:
URL:https://cccbsd.org/event/rosh-hashanah-no-school/
END:VEVENT
BEGIN:VEVENT
DTSTART;VALUE=DATE:20190927
DTEND;VALUE=DATE:20190928
DTSTAMP:20260424T075201
CREATED:20190808T151624Z
LAST-MODIFIED:20190808T151624Z
UID:10000059-1569542400-1569628799@cccbsd.org
SUMMARY:Microcephaly Awareness Day (recognized)
DESCRIPTION:September 27\, 2019: Microcephaly Awareness Day (recognized on Monday\, September 30th – no school). To show support for our students and families with microcephaly\, increase understanding and education about microcephaly in the community\, and celebrate our students’ individuality and amazing abilities\, we are asking staff and students to wear yellow to raise awareness for microcephaly.
URL:https://cccbsd.org/event/microcephaly-awareness-day-recognized/
END:VEVENT
BEGIN:VEVENT
DTSTART;VALUE=DATE:20190923
DTEND;VALUE=DATE:20190928
DTSTAMP:20260424T075201
CREATED:20190808T151336Z
LAST-MODIFIED:20190808T151336Z
UID:10000058-1569196800-1569628799@cccbsd.org
SUMMARY:Deaf Awareness Week
DESCRIPTION:September 23-27\, 2019: Deaf Awareness Week. A variety of activities are planned for classroom students and staff to attend.
URL:https://cccbsd.org/event/deaf-awareness-week-2/
END:VEVENT
BEGIN:VEVENT
DTSTART;VALUE=DATE:20190923
DTEND;VALUE=DATE:20190924
DTSTAMP:20260424T075201
CREATED:20190808T151017Z
LAST-MODIFIED:20190808T151017Z
UID:10000057-1569196800-1569283199@cccbsd.org
SUMMARY:International Sign Language Day
DESCRIPTION:September 23\, 2019: International Day of Sign Language. This day recognizes the importance of sign language and services in sign language. In recognition of this day\, we are asking staff and students to wear ASL or fingerspelling clothing or jewelry.  \n 
URL:https://cccbsd.org/event/international-sign-language-day/
END:VEVENT
BEGIN:VEVENT
DTSTART;TZID=America/New_York:20190922T080000
DTEND;TZID=America/New_York:20190922T120000
DTSTAMP:20260424T075201
CREATED:20190514T173356Z
LAST-MODIFIED:20190514T173356Z
UID:10000055-1569139200-1569153600@cccbsd.org
SUMMARY:Lone Gull 10K Road Race to Benefit CCCBSD
DESCRIPTION:
URL:https://cccbsd.org/event/lone-gull-10k-road-race-to-benefit-cccbsd/
END:VEVENT
BEGIN:VEVENT
DTSTART;TZID=America/New_York:20190912T170000
DTEND;TZID=America/New_York:20190912T180000
DTSTAMP:20260424T075201
CREATED:20190808T150824Z
LAST-MODIFIED:20190808T150824Z
UID:10000056-1568307600-1568311200@cccbsd.org
SUMMARY:CCCBSD Open House
DESCRIPTION:September 12\, 2019\, 5PM-6PM: CCCBSD Open House. This is an opportunity for parents and guardians to see their child’s classroom and meet his/her teacher\, paraprofessionals\, therapists\, and specialists. Throughout the night\, the teacher will give an overview of the curriculum for the classroom. Related service providers and specialists will be available throughout the hour for meet and greets; They will be at tables in the upper floor hallway of the new wing. Following the open house\, there will be a Parent Advisory Group (PAG) meeting at 6:00 in the Library. PAG is a great opportunity for families to be involved with the school and help coordinate events! All Parents/Guardians are welcome and encouraged to join PAG!
URL:https://cccbsd.org/event/cccbsd-open-house-2/
END:VEVENT
BEGIN:VEVENT
DTSTART;VALUE=DATE:20190904
DTEND;VALUE=DATE:20190905
DTSTAMP:20260424T075201
CREATED:20190808T161006Z
LAST-MODIFIED:20190808T161006Z
UID:10000070-1567555200-1567641599@cccbsd.org
SUMMARY:School Reopens to students
DESCRIPTION:
URL:https://cccbsd.org/event/school-reopens-to-students/
END:VEVENT
BEGIN:VEVENT
DTSTART;TZID=America/New_York:20190903T074500
DTEND;TZID=America/New_York:20190903T151500
DTSTAMP:20260424T075201
CREATED:20190808T161821Z
LAST-MODIFIED:20190808T161821Z
UID:10000072-1567496700-1567523700@cccbsd.org
SUMMARY:All Staff Orientation
DESCRIPTION:
URL:https://cccbsd.org/event/all-staff-orientation/
END:VEVENT
BEGIN:VEVENT
DTSTART;VALUE=DATE:20190816
DTEND;VALUE=DATE:20190904
DTSTAMP:20260424T075201
CREATED:20190808T161556Z
LAST-MODIFIED:20240529T185755Z
UID:10000071-1565913600-1567555199@cccbsd.org
SUMMARY:Summer Break August 19 - September 3\, 2019
DESCRIPTION:
URL:https://cccbsd.org/event/summer-break/
END:VEVENT
BEGIN:VEVENT
DTSTART;VALUE=DATE:20190808
DTEND;VALUE=DATE:20190809
DTSTAMP:20260424T075201
CREATED:20190808T170422Z
LAST-MODIFIED:20190808T170422Z
UID:10000078-1565222400-1565308799@cccbsd.org
SUMMARY:Early Release Day
DESCRIPTION:12:40 pm-students \n1:00 pm- staff
URL:https://cccbsd.org/event/early-release-day/
END:VEVENT
BEGIN:VEVENT
DTSTART;TZID=America/New_York:20190503T170000
DTEND;TZID=America/New_York:20190503T190000
DTSTAMP:20260424T075201
CREATED:20180813T174201Z
LAST-MODIFIED:20180813T174201Z
UID:10000052-1556902800-1556910000@cccbsd.org
SUMMARY:Star Student Cafe
DESCRIPTION:Star Student Cafe is our annual event open to parents and the community\, which showcases our students and their amazing work. Concessions and raffles are available throughout the night. \nThe event will take place in the CCCBSD school gym\, and will surround the theme of Helping Hand in Hand\, reflecting the school-wide theme of the quarter\, Helping in Our Community. \nAll are welcome to this event!
URL:https://cccbsd.org/event/star-student-cafe/
END:VEVENT
BEGIN:VEVENT
DTSTART;VALUE=DATE:20190331
DTEND;VALUE=DATE:20190402
DTSTAMP:20260424T075201
CREATED:20180813T174017Z
LAST-MODIFIED:20180813T174017Z
UID:10000051-1554073200-1554159599@cccbsd.org
SUMMARY:Autism Awareness
DESCRIPTION:April is Autism Awareness month\, so we are asking staff and students to wear a spectrum of bright colors to honor the spectrum of individuals with autism on Monday\, April 1st. Be creative and colorful! Wear puzzle pieces!
URL:https://cccbsd.org/event/autism-awareness/
END:VEVENT
BEGIN:VEVENT
DTSTART;TZID=America/New_York:20190330T170000
DTEND;TZID=America/New_York:20190330T220000
DTSTAMP:20260424T075201
CREATED:20180813T173843Z
LAST-MODIFIED:20180813T173843Z
UID:10000050-1553965200-1553983200@cccbsd.org
SUMMARY:Spring Soiree
DESCRIPTION:The Spring Soiree will be held at the Marriott Peabody\, and is our largest fundraiser of the year. The night consists of a reception\, silent auction\, raffle\, dinner\, live auction\, video presentations\, and award ceremony.  \nAll are welcome to this event!
URL:https://cccbsd.org/event/spring-soiree/
END:VEVENT
BEGIN:VEVENT
DTSTART;VALUE=DATE:20190328
DTEND;VALUE=DATE:20190330
DTSTAMP:20260424T075201
CREATED:20180813T173052Z
LAST-MODIFIED:20180813T173052Z
UID:10000048-1553814000-1553900399@cccbsd.org
SUMMARY:Fun Friday!
DESCRIPTION:Hawaiian Luau Day
URL:https://cccbsd.org/event/fun-friday-4/
END:VEVENT
BEGIN:VEVENT
DTSTART;VALUE=DATE:20190321
DTEND;VALUE=DATE:20190323
DTSTAMP:20260424T075201
CREATED:20180813T173023Z
LAST-MODIFIED:20180813T173023Z
UID:10000047-1553209200-1553295599@cccbsd.org
SUMMARY:Fun Friday!
DESCRIPTION:Sports/Wacky Workout Clothes Day
URL:https://cccbsd.org/event/fun-friday-3/
END:VEVENT
BEGIN:VEVENT
DTSTART;VALUE=DATE:20190320
DTEND;VALUE=DATE:20190322
DTSTAMP:20260424T075201
CREATED:20180813T173238Z
LAST-MODIFIED:20180813T173238Z
UID:10000049-1553122800-1553209199@cccbsd.org
SUMMARY:World Down Syndrome Day
DESCRIPTION:Students and staff are invited to wear crazy socks to raise awareness for Down Syndrome.
URL:https://cccbsd.org/event/world-down-syndrome-day/
END:VEVENT
BEGIN:VEVENT
DTSTART;VALUE=DATE:20190318
DTEND;VALUE=DATE:20190323
DTSTAMP:20260424T075201
CREATED:20190306T141827Z
LAST-MODIFIED:20190306T141827Z
UID:10000054-1552867200-1553299199@cccbsd.org
SUMMARY:March Madness Week
DESCRIPTION:March Madness is an annual school-wide event  where students get the opportunity to play one another in a round of basketball games. This year\, March Madness will be held during the week of March 18th. Each winning team gets to advance to the next round. Teams play until there is a final winner. A flyer will be sent home with more information and invitation for parents to come.
URL:https://cccbsd.org/event/march-madness-week/
END:VEVENT
BEGIN:VEVENT
DTSTART;VALUE=DATE:20190307
DTEND;VALUE=DATE:20190309
DTSTAMP:20260424T075201
CREATED:20180813T172835Z
LAST-MODIFIED:20180813T172835Z
UID:10000046-1551999600-1552085999@cccbsd.org
SUMMARY:Fun Friday!
DESCRIPTION:Red\, White\, and Blue Spirit Day
URL:https://cccbsd.org/event/fun-friday/
END:VEVENT
BEGIN:VEVENT
DTSTART;VALUE=DATE:20190307
DTEND;VALUE=DATE:20190308
DTSTAMP:20260424T075201
CREATED:20190306T140748Z
LAST-MODIFIED:20190306T140748Z
UID:10000053-1551916800-1552003199@cccbsd.org
SUMMARY:Instrument Playground and Music Eyes
DESCRIPTION:The Boston Philharmonic is returning again this year to present Instrument Playground & Music Eyes on Thursday\, March 7th.   Students will have the opportunity to see\, hear\, and touch instruments that are played by BPO musicians. Students will also be able to experience various musical  compositions through a visual/auditory presentation and the use of the vibrating floor\, vibrating pillows\, and speakers.
URL:https://cccbsd.org/event/instrument-playground-and-music-eyes/
END:VEVENT
BEGIN:VEVENT
DTSTART;VALUE=DATE:20190228
DTEND;VALUE=DATE:20190302
DTSTAMP:20260424T075201
CREATED:20180813T172700Z
LAST-MODIFIED:20180813T172700Z
UID:10000045-1551394800-1551481199@cccbsd.org
SUMMARY:Read Across America Day
DESCRIPTION:March 2\, 2019 (Friday\, March 1st at CCCBSD) is a national celebration honoring Dr. Seuss and encouraging children to get involved in literacy. Students participate in activities in the library\, gym\, art room\, and music room. There will also be a special reading from The Cat in the Hat!
URL:https://cccbsd.org/event/read-across-america-day/
END:VEVENT
END:VCALENDAR