BEGIN:VCALENDAR
VERSION:2.0
PRODID:-//CCCBSD - ECPv6.15.20//NONSGML v1.0//EN
CALSCALE:GREGORIAN
METHOD:PUBLISH
X-WR-CALNAME:CCCBSD
X-ORIGINAL-URL:https://cccbsd.org
X-WR-CALDESC:Events for CCCBSD
REFRESH-INTERVAL;VALUE=DURATION:PT1H
X-Robots-Tag:noindex
X-PUBLISHED-TTL:PT1H
BEGIN:VTIMEZONE
TZID:America/New_York
BEGIN:DAYLIGHT
TZOFFSETFROM:-0500
TZOFFSETTO:-0400
TZNAME:EDT
DTSTART:20210314T070000
END:DAYLIGHT
BEGIN:STANDARD
TZOFFSETFROM:-0400
TZOFFSETTO:-0500
TZNAME:EST
DTSTART:20211107T060000
END:STANDARD
BEGIN:DAYLIGHT
TZOFFSETFROM:-0500
TZOFFSETTO:-0400
TZNAME:EDT
DTSTART:20220313T070000
END:DAYLIGHT
BEGIN:STANDARD
TZOFFSETFROM:-0400
TZOFFSETTO:-0500
TZNAME:EST
DTSTART:20221106T060000
END:STANDARD
BEGIN:DAYLIGHT
TZOFFSETFROM:-0500
TZOFFSETTO:-0400
TZNAME:EDT
DTSTART:20230312T070000
END:DAYLIGHT
BEGIN:STANDARD
TZOFFSETFROM:-0400
TZOFFSETTO:-0500
TZNAME:EST
DTSTART:20231105T060000
END:STANDARD
BEGIN:DAYLIGHT
TZOFFSETFROM:-0500
TZOFFSETTO:-0400
TZNAME:EDT
DTSTART:20240310T070000
END:DAYLIGHT
BEGIN:STANDARD
TZOFFSETFROM:-0400
TZOFFSETTO:-0500
TZNAME:EST
DTSTART:20241103T060000
END:STANDARD
END:VTIMEZONE
BEGIN:VEVENT
DTSTART;VALUE=DATE:20230529
DTEND;VALUE=DATE:20230530
DTSTAMP:20260422T174942
CREATED:20221110T145014Z
LAST-MODIFIED:20221110T145014Z
UID:10000152-1685318400-1685404799@cccbsd.org
SUMMARY:Memorial Day - No School
DESCRIPTION:
URL:https://cccbsd.org/event/memorial-day-no-school-4/
END:VEVENT
BEGIN:VEVENT
DTSTART;TZID=America/New_York:20230505T180000
DTEND;TZID=America/New_York:20230505T200000
DTSTAMP:20260422T174942
CREATED:20221110T144937Z
LAST-MODIFIED:20221110T144937Z
UID:10000151-1683309600-1683316800@cccbsd.org
SUMMARY:Star Student Cafe
DESCRIPTION:
URL:https://cccbsd.org/event/star-student-cafe-2/
END:VEVENT
BEGIN:VEVENT
DTSTART;VALUE=DATE:20230417
DTEND;VALUE=DATE:20230422
DTSTAMP:20260422T174942
CREATED:20221110T144650Z
LAST-MODIFIED:20221110T144650Z
UID:10000149-1681689600-1682121599@cccbsd.org
SUMMARY:April Vacation
DESCRIPTION:
URL:https://cccbsd.org/event/april-vacation-2/
END:VEVENT
BEGIN:VEVENT
DTSTART;VALUE=DATE:20230407
DTEND;VALUE=DATE:20230408
DTSTAMP:20260422T174942
CREATED:20221110T144726Z
LAST-MODIFIED:20221110T144726Z
UID:10000150-1680825600-1680911999@cccbsd.org
SUMMARY:Good Friday - No School
DESCRIPTION:
URL:https://cccbsd.org/event/good-friday-no-school-4/
END:VEVENT
BEGIN:VEVENT
DTSTART;TZID=America/New_York:20230324T124000
DTEND;TZID=America/New_York:20230324T170000
DTSTAMP:20260422T174942
CREATED:20220801T143459Z
LAST-MODIFIED:20220801T143459Z
UID:10000147-1679661600-1679677200@cccbsd.org
SUMMARY:Professional Day - Early Release 12:40pm
DESCRIPTION:
URL:https://cccbsd.org/event/professional-day-early-release-1240pm/
END:VEVENT
BEGIN:VEVENT
DTSTART;TZID=America/New_York:20230220T080000
DTEND;TZID=America/New_York:20230224T170000
DTSTAMP:20260422T174942
CREATED:20220801T143406Z
LAST-MODIFIED:20240529T191425Z
UID:10000146-1676880000-1677258000@cccbsd.org
SUMMARY:February Break February 20 - 24 2023
DESCRIPTION:
URL:https://cccbsd.org/event/february-break-2/
END:VEVENT
BEGIN:VEVENT
DTSTART;VALUE=DATE:20230116
DTEND;VALUE=DATE:20230117
DTSTAMP:20260422T174942
CREATED:20220801T143327Z
LAST-MODIFIED:20220801T143327Z
UID:10000145-1673827200-1673913599@cccbsd.org
SUMMARY:Martin Luther King Day - No School
DESCRIPTION:
URL:https://cccbsd.org/event/martin-luther-king-day-no-school/
END:VEVENT
BEGIN:VEVENT
DTSTART;VALUE=DATE:20230103
DTEND;VALUE=DATE:20230104
DTSTAMP:20260422T174942
CREATED:20220801T143236Z
LAST-MODIFIED:20220801T143236Z
UID:10000144-1672704000-1672790399@cccbsd.org
SUMMARY:Return to School !
DESCRIPTION:
URL:https://cccbsd.org/event/return-to-school/
END:VEVENT
BEGIN:VEVENT
DTSTART;VALUE=DATE:20230102
DTEND;VALUE=DATE:20230103
DTSTAMP:20260422T174942
CREATED:20220801T143154Z
LAST-MODIFIED:20220801T143154Z
UID:10000143-1672617600-1672703999@cccbsd.org
SUMMARY:New Year's (Observed)
DESCRIPTION:
URL:https://cccbsd.org/event/new-years-observed/
END:VEVENT
BEGIN:VEVENT
DTSTART;TZID=America/New_York:20221224T080000
DTEND;TZID=America/New_York:20221231T170000
DTSTAMP:20260422T174942
CREATED:20220801T143057Z
LAST-MODIFIED:20220801T143057Z
UID:10000142-1671868800-1672506000@cccbsd.org
SUMMARY:Winter Break
DESCRIPTION:
URL:https://cccbsd.org/event/winter-break-3/
END:VEVENT
BEGIN:VEVENT
DTSTART;TZID=America/New_York:20221223T124000
DTEND;TZID=America/New_York:20221223T170000
DTSTAMP:20260422T174942
CREATED:20220801T143004Z
LAST-MODIFIED:20220801T143004Z
UID:10000141-1671799200-1671814800@cccbsd.org
SUMMARY:Early Release 12:40pm
DESCRIPTION:
URL:https://cccbsd.org/event/early-release-1240pm-2/
END:VEVENT
BEGIN:VEVENT
DTSTART;VALUE=DATE:20221124
DTEND;VALUE=DATE:20221126
DTSTAMP:20260422T174942
CREATED:20220801T142920Z
LAST-MODIFIED:20220801T142920Z
UID:10000140-1669248000-1669420799@cccbsd.org
SUMMARY:Thanksgiving Break
DESCRIPTION:
URL:https://cccbsd.org/event/thanksgiving-break-3/
END:VEVENT
BEGIN:VEVENT
DTSTART;TZID=America/New_York:20221123T124000
DTEND;TZID=America/New_York:20221123T170000
DTSTAMP:20260422T174942
CREATED:20220801T142843Z
LAST-MODIFIED:20220801T142843Z
UID:10000139-1669207200-1669222800@cccbsd.org
SUMMARY:Early Release 12:40pm
DESCRIPTION:Early Release 12:40
URL:https://cccbsd.org/event/early-release-1240pm/
END:VEVENT
BEGIN:VEVENT
DTSTART;VALUE=DATE:20221118
DTEND;VALUE=DATE:20221119
DTSTAMP:20260422T174942
CREATED:20220801T142740Z
LAST-MODIFIED:20221110T144230Z
UID:10000138-1668729600-1668815999@cccbsd.org
SUMMARY:CCCBSD Thanksgiving Dinner (Tentative)
DESCRIPTION:
URL:https://cccbsd.org/event/cccbsd-thanksgiving-dinner-tentative/
END:VEVENT
BEGIN:VEVENT
DTSTART;VALUE=DATE:20221117
DTEND;VALUE=DATE:20221118
DTSTAMP:20260422T174942
CREATED:20221110T144338Z
LAST-MODIFIED:20221110T144338Z
UID:10000148-1668643200-1668729599@cccbsd.org
SUMMARY:Picture Retake Day
DESCRIPTION:
URL:https://cccbsd.org/event/picture-retake-day-2/
END:VEVENT
BEGIN:VEVENT
DTSTART;VALUE=DATE:20221111
DTEND;VALUE=DATE:20221112
DTSTAMP:20260422T174942
CREATED:20220801T142657Z
LAST-MODIFIED:20240529T191536Z
UID:10000137-1668124800-1668211199@cccbsd.org
SUMMARY:Veterans Day - No School November 11\, 2022
DESCRIPTION:
URL:https://cccbsd.org/event/veterans-day-no-school-2/
END:VEVENT
BEGIN:VEVENT
DTSTART;VALUE=DATE:20221010
DTEND;VALUE=DATE:20221011
DTSTAMP:20260422T174942
CREATED:20220621T180452Z
LAST-MODIFIED:20220621T180452Z
UID:10000136-1665360000-1665446399@cccbsd.org
SUMMARY:Columbus Day - No School
DESCRIPTION:
URL:https://cccbsd.org/event/columbus-day-no-school-2/
END:VEVENT
BEGIN:VEVENT
DTSTART;VALUE=DATE:20221005
DTEND;VALUE=DATE:20221006
DTSTAMP:20260422T174942
CREATED:20220621T180308Z
LAST-MODIFIED:20220621T180308Z
UID:10000135-1664928000-1665014399@cccbsd.org
SUMMARY:Yom Kippur - No School
DESCRIPTION:
URL:https://cccbsd.org/event/yom-kippur-no-school-2/
END:VEVENT
BEGIN:VEVENT
DTSTART;VALUE=DATE:20220926
DTEND;VALUE=DATE:20220927
DTSTAMP:20260422T174942
CREATED:20220621T180229Z
LAST-MODIFIED:20220621T180229Z
UID:10000132-1664150400-1664236799@cccbsd.org
SUMMARY:Rosh Hashanah - No School
DESCRIPTION:
URL:https://cccbsd.org/event/rosh-hashanah-no-school-2/
END:VEVENT
BEGIN:VEVENT
DTSTART;VALUE=DATE:20220905
DTEND;VALUE=DATE:20220906
DTSTAMP:20260422T174942
CREATED:20220621T180149Z
LAST-MODIFIED:20220621T180149Z
UID:10000133-1662336000-1662422399@cccbsd.org
SUMMARY:Labor Day - No School
DESCRIPTION:
URL:https://cccbsd.org/event/labor-day-no-school/
END:VEVENT
BEGIN:VEVENT
DTSTART;VALUE=DATE:20220830
DTEND;VALUE=DATE:20220831
DTSTAMP:20260422T174942
CREATED:20220621T180045Z
LAST-MODIFIED:20220621T180045Z
UID:10000134-1661817600-1661903999@cccbsd.org
SUMMARY:Students Return
DESCRIPTION:
URL:https://cccbsd.org/event/students-return/
END:VEVENT
BEGIN:VEVENT
DTSTART;VALUE=DATE:20220829
DTEND;VALUE=DATE:20220830
DTSTAMP:20260422T174942
CREATED:20220621T175622Z
LAST-MODIFIED:20220621T175622Z
UID:10000129-1661731200-1661817599@cccbsd.org
SUMMARY:Staff Orientation
DESCRIPTION:
URL:https://cccbsd.org/event/staff-orientation/
END:VEVENT
BEGIN:VEVENT
DTSTART;TZID=America/New_York:20220812T000000
DTEND;TZID=America/New_York:20220829T235900
DTSTAMP:20260422T174942
CREATED:20220621T175513Z
LAST-MODIFIED:20240529T185819Z
UID:10000130-1660262400-1661817540@cccbsd.org
SUMMARY:Summer Break August 12 - August 29\, 2022
DESCRIPTION:
URL:https://cccbsd.org/event/no-school-7/
END:VEVENT
BEGIN:VEVENT
DTSTART;VALUE=DATE:20220805
DTEND;VALUE=DATE:20220806
DTSTAMP:20260422T174942
CREATED:20220621T175447Z
LAST-MODIFIED:20220621T175447Z
UID:10000128-1659657600-1659743999@cccbsd.org
SUMMARY:No School
DESCRIPTION:
URL:https://cccbsd.org/event/no-school-6/
END:VEVENT
BEGIN:VEVENT
DTSTART;VALUE=DATE:20220729
DTEND;VALUE=DATE:20220730
DTSTAMP:20260422T174942
CREATED:20220621T175418Z
LAST-MODIFIED:20220621T175418Z
UID:10000127-1659052800-1659139199@cccbsd.org
SUMMARY:No School
DESCRIPTION:
URL:https://cccbsd.org/event/no-school-5/
END:VEVENT
BEGIN:VEVENT
DTSTART;VALUE=DATE:20220722
DTEND;VALUE=DATE:20220723
DTSTAMP:20260422T174942
CREATED:20220621T175357Z
LAST-MODIFIED:20220621T175357Z
UID:10000126-1658448000-1658534399@cccbsd.org
SUMMARY:No School
DESCRIPTION:
URL:https://cccbsd.org/event/no-school-4/
END:VEVENT
BEGIN:VEVENT
DTSTART;VALUE=DATE:20220715
DTEND;VALUE=DATE:20220716
DTSTAMP:20260422T174942
CREATED:20220621T175334Z
LAST-MODIFIED:20220621T175334Z
UID:10000125-1657843200-1657929599@cccbsd.org
SUMMARY:No School
DESCRIPTION:
URL:https://cccbsd.org/event/no-school-3/
END:VEVENT
BEGIN:VEVENT
DTSTART;VALUE=DATE:20220708
DTEND;VALUE=DATE:20220709
DTSTAMP:20260422T174942
CREATED:20220621T175252Z
LAST-MODIFIED:20220621T175252Z
UID:10000124-1657238400-1657324799@cccbsd.org
SUMMARY:No School
DESCRIPTION:
URL:https://cccbsd.org/event/no-school-2/
END:VEVENT
BEGIN:VEVENT
DTSTART;VALUE=DATE:20220706
DTEND;VALUE=DATE:20220707
DTSTAMP:20260422T174942
CREATED:20220621T175209Z
LAST-MODIFIED:20220621T175209Z
UID:10000123-1657065600-1657151999@cccbsd.org
SUMMARY:Students Return - Summer Session
DESCRIPTION:
URL:https://cccbsd.org/event/students-return-summer-session/
END:VEVENT
BEGIN:VEVENT
DTSTART;VALUE=DATE:20220705
DTEND;VALUE=DATE:20220706
DTSTAMP:20260422T174942
CREATED:20220621T175136Z
LAST-MODIFIED:20220621T175136Z
UID:10000122-1656979200-1657065599@cccbsd.org
SUMMARY:Staff Return - Summer Session
DESCRIPTION:
URL:https://cccbsd.org/event/staff-return-summer-session/
END:VEVENT
END:VCALENDAR