BEGIN:VCALENDAR
VERSION:2.0
PRODID:-//CCCBSD - ECPv6.15.20//NONSGML v1.0//EN
CALSCALE:GREGORIAN
METHOD:PUBLISH
X-ORIGINAL-URL:https://cccbsd.org
X-WR-CALDESC:Events for CCCBSD
REFRESH-INTERVAL;VALUE=DURATION:PT1H
X-Robots-Tag:noindex
X-PUBLISHED-TTL:PT1H
BEGIN:VTIMEZONE
TZID:America/New_York
BEGIN:DAYLIGHT
TZOFFSETFROM:-0500
TZOFFSETTO:-0400
TZNAME:EDT
DTSTART:20190310T070000
END:DAYLIGHT
BEGIN:STANDARD
TZOFFSETFROM:-0400
TZOFFSETTO:-0500
TZNAME:EST
DTSTART:20191103T060000
END:STANDARD
BEGIN:DAYLIGHT
TZOFFSETFROM:-0500
TZOFFSETTO:-0400
TZNAME:EDT
DTSTART:20200308T070000
END:DAYLIGHT
BEGIN:STANDARD
TZOFFSETFROM:-0400
TZOFFSETTO:-0500
TZNAME:EST
DTSTART:20201101T060000
END:STANDARD
BEGIN:DAYLIGHT
TZOFFSETFROM:-0500
TZOFFSETTO:-0400
TZNAME:EDT
DTSTART:20210314T070000
END:DAYLIGHT
BEGIN:STANDARD
TZOFFSETFROM:-0400
TZOFFSETTO:-0500
TZNAME:EST
DTSTART:20211107T060000
END:STANDARD
END:VTIMEZONE
BEGIN:VEVENT
DTSTART;VALUE=DATE:20200605
DTEND;VALUE=DATE:20200606
DTSTAMP:20260426T001344
CREATED:20190808T160811Z
LAST-MODIFIED:20190808T160811Z
UID:10000069-1591315200-1591401599@cccbsd.org
SUMMARY:CMV Awareness Month (celebrated)
DESCRIPTION:June 5\, 2020: June is CMV Awareness month. To show support for our students and families with CMV\, increase understanding and education about CMV in the community\, and celebrate our students’ individuality and amazing abilities\, we are asking staff and students to wear silver or a silver ribbon to raise awareness for CMV.
URL:https://cccbsd.org/event/cmv-awareness-month-celebrated/
END:VEVENT
BEGIN:VEVENT
DTSTART;VALUE=DATE:20200623
DTEND;VALUE=DATE:20200624
DTSTAMP:20260426T001344
CREATED:20200514T162542Z
LAST-MODIFIED:20200514T162542Z
UID:10000004-1592870400-1592956799@cccbsd.org
SUMMARY:Last Day of School
DESCRIPTION:This is the last day of school for the 2019-2020 school year.
URL:https://cccbsd.org/event/last-day-of-school/
END:VEVENT
END:VCALENDAR