BEGIN:VCALENDAR
VERSION:2.0
PRODID:-//CCCBSD - ECPv6.15.20//NONSGML v1.0//EN
CALSCALE:GREGORIAN
METHOD:PUBLISH
X-ORIGINAL-URL:https://cccbsd.org
X-WR-CALDESC:Events for CCCBSD
REFRESH-INTERVAL;VALUE=DURATION:PT1H
X-Robots-Tag:noindex
X-PUBLISHED-TTL:PT1H
BEGIN:VTIMEZONE
TZID:America/New_York
BEGIN:DAYLIGHT
TZOFFSETFROM:-0500
TZOFFSETTO:-0400
TZNAME:EDT
DTSTART:20190310T070000
END:DAYLIGHT
BEGIN:STANDARD
TZOFFSETFROM:-0400
TZOFFSETTO:-0500
TZNAME:EST
DTSTART:20191103T060000
END:STANDARD
BEGIN:DAYLIGHT
TZOFFSETFROM:-0500
TZOFFSETTO:-0400
TZNAME:EDT
DTSTART:20200308T070000
END:DAYLIGHT
BEGIN:STANDARD
TZOFFSETFROM:-0400
TZOFFSETTO:-0500
TZNAME:EST
DTSTART:20201101T060000
END:STANDARD
BEGIN:DAYLIGHT
TZOFFSETFROM:-0500
TZOFFSETTO:-0400
TZNAME:EDT
DTSTART:20210314T070000
END:DAYLIGHT
BEGIN:STANDARD
TZOFFSETFROM:-0400
TZOFFSETTO:-0500
TZNAME:EST
DTSTART:20211107T060000
END:STANDARD
END:VTIMEZONE
BEGIN:VEVENT
DTSTART;TZID=America/New_York:20200911T080000
DTEND;TZID=America/New_York:20200911T170000
DTSTAMP:20260425T194641
CREATED:20200911T175938Z
LAST-MODIFIED:20200911T175938Z
UID:10000006-1599811200-1599843600@cccbsd.org
SUMMARY:Patriots Spirit Day
DESCRIPTION:Wear your patriotic colors to celebrate the Patriots game!
URL:https://cccbsd.org/event/patriots-spirit-day/
END:VEVENT
BEGIN:VEVENT
DTSTART;TZID=America/New_York:20200920T080000
DTEND;TZID=America/New_York:20200928T170000
DTSTAMP:20260425T194641
CREATED:20200911T175637Z
LAST-MODIFIED:20200911T175637Z
UID:10000005-1600588800-1601312400@cccbsd.org
SUMMARY:2020 Virtual Lone Gull 10K Road Race
DESCRIPTION:
URL:https://cccbsd.org/event/2020-virtual-lone-gull-10k-road-race/
END:VEVENT
BEGIN:VEVENT
DTSTART;VALUE=DATE:20200921
DTEND;VALUE=DATE:20200926
DTSTAMP:20260425T194641
CREATED:20200916T183727Z
LAST-MODIFIED:20200916T183727Z
UID:10000009-1600646400-1601078399@cccbsd.org
SUMMARY:Deaf Awareness Week
DESCRIPTION:
URL:https://cccbsd.org/event/deaf-awareness-week/
END:VEVENT
BEGIN:VEVENT
DTSTART;TZID=America/New_York:20200923T080000
DTEND;TZID=America/New_York:20200923T170000
DTSTAMP:20260425T194641
CREATED:20200911T180019Z
LAST-MODIFIED:20200911T180019Z
UID:10000007-1600848000-1600880400@cccbsd.org
SUMMARY:International Day of Sign Language
DESCRIPTION:September 23\, 2020: International Day of Sign Language. This day\nrecognizes the importance of sign language and services in sign\nlanguage. In recognition of this day\, we are asking staff and students\nto wear ASL or fingerspelling clothing or jewelry.
URL:https://cccbsd.org/event/international-day-of-sign-language/
END:VEVENT
BEGIN:VEVENT
DTSTART;TZID=America/New_York:20200930T080000
DTEND;TZID=America/New_York:20200930T170000
DTSTAMP:20260425T194641
CREATED:20200911T180131Z
LAST-MODIFIED:20200911T180131Z
UID:10000008-1601452800-1601485200@cccbsd.org
SUMMARY:Microcephaly Awareness Day
DESCRIPTION:September 30th\, 2020: Microcephaly Awareness Day. To show support for our students and families\nwith microcephaly\, increase understanding and education about microcephaly in the community\, and\ncelebrate our students’ individuality and amazing abilities\, we are asking staff and students to wear yellow\nto raise awareness for microcephaly.
URL:https://cccbsd.org/event/microcephaly-awareness-day/
END:VEVENT
END:VCALENDAR