BEGIN:VCALENDAR
VERSION:2.0
PRODID:-//CCCBSD - ECPv6.15.20//NONSGML v1.0//EN
CALSCALE:GREGORIAN
METHOD:PUBLISH
X-WR-CALNAME:CCCBSD
X-ORIGINAL-URL:https://cccbsd.org
X-WR-CALDESC:Events for CCCBSD
REFRESH-INTERVAL;VALUE=DURATION:PT1H
X-Robots-Tag:noindex
X-PUBLISHED-TTL:PT1H
BEGIN:VTIMEZONE
TZID:America/New_York
BEGIN:DAYLIGHT
TZOFFSETFROM:-0500
TZOFFSETTO:-0400
TZNAME:EDT
DTSTART:20200308T070000
END:DAYLIGHT
BEGIN:STANDARD
TZOFFSETFROM:-0400
TZOFFSETTO:-0500
TZNAME:EST
DTSTART:20201101T060000
END:STANDARD
BEGIN:DAYLIGHT
TZOFFSETFROM:-0500
TZOFFSETTO:-0400
TZNAME:EDT
DTSTART:20210314T070000
END:DAYLIGHT
BEGIN:STANDARD
TZOFFSETFROM:-0400
TZOFFSETTO:-0500
TZNAME:EST
DTSTART:20211107T060000
END:STANDARD
BEGIN:DAYLIGHT
TZOFFSETFROM:-0500
TZOFFSETTO:-0400
TZNAME:EDT
DTSTART:20220313T070000
END:DAYLIGHT
BEGIN:STANDARD
TZOFFSETFROM:-0400
TZOFFSETTO:-0500
TZNAME:EST
DTSTART:20221106T060000
END:STANDARD
END:VTIMEZONE
BEGIN:VEVENT
DTSTART;VALUE=DATE:20211103
DTEND;VALUE=DATE:20211104
DTSTAMP:20260424T203431
CREATED:20210318T140948Z
LAST-MODIFIED:20240529T185343Z
UID:10000013-1635897600-1635983999@cccbsd.org
SUMMARY:Picture Retake Day November 3 2021
DESCRIPTION:
URL:https://cccbsd.org/event/picture-retake-day/
END:VEVENT
BEGIN:VEVENT
DTSTART;VALUE=DATE:20211111
DTEND;VALUE=DATE:20211112
DTSTAMP:20260424T203431
CREATED:20211013T164240Z
LAST-MODIFIED:20211013T164240Z
UID:10000105-1636588800-1636675199@cccbsd.org
SUMMARY:Veterans Day - No School
DESCRIPTION:
URL:https://cccbsd.org/event/veterans-day-no-school/
END:VEVENT
BEGIN:VEVENT
DTSTART;TZID=America/New_York:20211124T123000
DTEND;TZID=America/New_York:20211124T123000
DTSTAMP:20260424T203431
CREATED:20211013T164451Z
LAST-MODIFIED:20211013T164451Z
UID:10000106-1637757000-1637757000@cccbsd.org
SUMMARY:Early Release
DESCRIPTION:
URL:https://cccbsd.org/event/early-release/
END:VEVENT
BEGIN:VEVENT
DTSTART;VALUE=DATE:20211125
DTEND;VALUE=DATE:20211127
DTSTAMP:20260424T203431
CREATED:20211013T164523Z
LAST-MODIFIED:20240529T190435Z
UID:10000107-1637798400-1637971199@cccbsd.org
SUMMARY:Thanksgiving Break November 25 - 26\, 2021
DESCRIPTION:
URL:https://cccbsd.org/event/thanksgiving-break-2/
END:VEVENT
END:VCALENDAR