BEGIN:VCALENDAR
VERSION:2.0
PRODID:-//CCCBSD - ECPv6.15.20//NONSGML v1.0//EN
CALSCALE:GREGORIAN
METHOD:PUBLISH
X-ORIGINAL-URL:https://cccbsd.org
X-WR-CALDESC:Events for CCCBSD
REFRESH-INTERVAL;VALUE=DURATION:PT1H
X-Robots-Tag:noindex
X-PUBLISHED-TTL:PT1H
BEGIN:VTIMEZONE
TZID:America/New_York
BEGIN:DAYLIGHT
TZOFFSETFROM:-0500
TZOFFSETTO:-0400
TZNAME:EDT
DTSTART:20210314T070000
END:DAYLIGHT
BEGIN:STANDARD
TZOFFSETFROM:-0400
TZOFFSETTO:-0500
TZNAME:EST
DTSTART:20211107T060000
END:STANDARD
BEGIN:DAYLIGHT
TZOFFSETFROM:-0500
TZOFFSETTO:-0400
TZNAME:EDT
DTSTART:20220313T070000
END:DAYLIGHT
BEGIN:STANDARD
TZOFFSETFROM:-0400
TZOFFSETTO:-0500
TZNAME:EST
DTSTART:20221106T060000
END:STANDARD
BEGIN:DAYLIGHT
TZOFFSETFROM:-0500
TZOFFSETTO:-0400
TZNAME:EDT
DTSTART:20230312T070000
END:DAYLIGHT
BEGIN:STANDARD
TZOFFSETFROM:-0400
TZOFFSETTO:-0500
TZNAME:EST
DTSTART:20231105T060000
END:STANDARD
END:VTIMEZONE
BEGIN:VEVENT
DTSTART;VALUE=DATE:20220204
DTEND;VALUE=DATE:20220205
DTSTAMP:20260424T150944
CREATED:20220201T202835Z
LAST-MODIFIED:20220201T202835Z
UID:10000029-1643932800-1644019199@cccbsd.org
SUMMARY:Fun Friday - Denim Day
DESCRIPTION:
URL:https://cccbsd.org/event/fun-friday-denim-day/
END:VEVENT
BEGIN:VEVENT
DTSTART;TZID=America/New_York:20220209T120000
DTEND;TZID=America/New_York:20220209T124500
DTSTAMP:20260424T150944
CREATED:20220128T192652Z
LAST-MODIFIED:20220128T194946Z
UID:10000027-1644408000-1644410700@cccbsd.org
SUMMARY:Lunch and Learn with The Clinic: February
DESCRIPTION:How can we expand our definition of literacy beyond reading and writing? What are the true goals of literacy? What skills should be targeted to help complex learners become literate? In this Lunch and Learn\, we will explore strategies to support students to engage with text\, make meaning\, and bridge known and new information. Presented by Teacher of the Deaf and Reading Specialist Maddy Gibson\, M.Ed. ASL/English interpreting provided. \nQuestions: TheClinic@cccbsd.org \nRegister for free here: https://bit.ly/LunchandLearnRegistration
URL:https://cccbsd.org/event/lunch-and-learn-with-the-clinic-february/
END:VEVENT
BEGIN:VEVENT
DTSTART;TZID=America/New_York:20220210T170000
DTEND;TZID=America/New_York:20220210T183000
DTSTAMP:20260424T150944
CREATED:20220128T194903Z
LAST-MODIFIED:20220128T194903Z
UID:10000028-1644512400-1644517800@cccbsd.org
SUMMARY:Distinguished Speaker Series
DESCRIPTION:Join The Institute in welcoming Dr. Lisa Prock\, MD\, MPH\, as she presents\, “The Impact of Trauma on Children with Complex Developmental Needs.” ASL/English interpreting provided. \nQuestions: TheInstitute@cccbsd.org \nRegistration: https://bit.ly/DistinguishedSpeakerFeb
URL:https://cccbsd.org/event/distinguished-speaker-series/
END:VEVENT
BEGIN:VEVENT
DTSTART;VALUE=DATE:20220211
DTEND;VALUE=DATE:20220212
DTSTAMP:20260424T150944
CREATED:20220201T202857Z
LAST-MODIFIED:20220201T202857Z
UID:10000030-1644537600-1644623999@cccbsd.org
SUMMARY:Fun Friday - Disney Day
DESCRIPTION:
URL:https://cccbsd.org/event/fun-friday-disney-day/
END:VEVENT
BEGIN:VEVENT
DTSTART;VALUE=DATE:20220218
DTEND;VALUE=DATE:20220219
DTSTAMP:20260424T150944
CREATED:20220201T202921Z
LAST-MODIFIED:20220201T202921Z
UID:10000111-1645142400-1645228799@cccbsd.org
SUMMARY:Fun Friday - Pajama Day
DESCRIPTION:
URL:https://cccbsd.org/event/fun-friday-pajama-day/
END:VEVENT
BEGIN:VEVENT
DTSTART;VALUE=DATE:20220221
DTEND;VALUE=DATE:20220226
DTSTAMP:20260424T150944
CREATED:20220126T155512Z
LAST-MODIFIED:20220126T155512Z
UID:10000110-1645401600-1645833599@cccbsd.org
SUMMARY:February Break
DESCRIPTION:
URL:https://cccbsd.org/event/february-break/
END:VEVENT
END:VCALENDAR