BEGIN:VCALENDAR
VERSION:2.0
PRODID:-//CCCBSD - ECPv6.15.20//NONSGML v1.0//EN
CALSCALE:GREGORIAN
METHOD:PUBLISH
X-ORIGINAL-URL:https://cccbsd.org
X-WR-CALDESC:Events for CCCBSD
REFRESH-INTERVAL;VALUE=DURATION:PT1H
X-Robots-Tag:noindex
X-PUBLISHED-TTL:PT1H
BEGIN:VTIMEZONE
TZID:America/New_York
BEGIN:DAYLIGHT
TZOFFSETFROM:-0500
TZOFFSETTO:-0400
TZNAME:EDT
DTSTART:20210314T070000
END:DAYLIGHT
BEGIN:STANDARD
TZOFFSETFROM:-0400
TZOFFSETTO:-0500
TZNAME:EST
DTSTART:20211107T060000
END:STANDARD
BEGIN:DAYLIGHT
TZOFFSETFROM:-0500
TZOFFSETTO:-0400
TZNAME:EDT
DTSTART:20220313T070000
END:DAYLIGHT
BEGIN:STANDARD
TZOFFSETFROM:-0400
TZOFFSETTO:-0500
TZNAME:EST
DTSTART:20221106T060000
END:STANDARD
BEGIN:DAYLIGHT
TZOFFSETFROM:-0500
TZOFFSETTO:-0400
TZNAME:EDT
DTSTART:20230312T070000
END:DAYLIGHT
BEGIN:STANDARD
TZOFFSETFROM:-0400
TZOFFSETTO:-0500
TZNAME:EST
DTSTART:20231105T060000
END:STANDARD
END:VTIMEZONE
BEGIN:VEVENT
DTSTART;TZID=America/New_York:20221223T124000
DTEND;TZID=America/New_York:20221223T170000
DTSTAMP:20260423T223235
CREATED:20220801T143004Z
LAST-MODIFIED:20220801T143004Z
UID:10000141-1671799200-1671814800@cccbsd.org
SUMMARY:Early Release 12:40pm
DESCRIPTION:
URL:https://cccbsd.org/event/early-release-1240pm-2/
END:VEVENT
BEGIN:VEVENT
DTSTART;TZID=America/New_York:20221224T080000
DTEND;TZID=America/New_York:20221231T170000
DTSTAMP:20260423T223235
CREATED:20220801T143057Z
LAST-MODIFIED:20220801T143057Z
UID:10000142-1671868800-1672506000@cccbsd.org
SUMMARY:Winter Break
DESCRIPTION:
URL:https://cccbsd.org/event/winter-break-3/
END:VEVENT
END:VCALENDAR